<?xml version="1.0" encoding="UTF-8"?>
<Capabilities xmlns="http://www.opengis.net/wmts/1.0"
	xmlns:ows="http://www.opengis.net/ows/1.1"
	xmlns:xlink="http://www.w3.org/1999/xlink"
	xmlns:xsi="http://www.w3.org/2001/XMLSchema-instance"
	xmlns:gml="http://www.opengis.net/gml"
	xsi:schemaLocation="http://www.opengis.net/wmts/1.0 http://schemas.opengis.net/wmts/1.0/wmtsGetCapabilities_response.xsd"
	version="1.0.0">
  <!-- Service Identification --> 
 <ows:ServiceIdentification>
	<ows:Title>AerialPhotography_MostRecentAerialPhotographyCached</ows:Title>
	<ows:ServiceType>OGC WMTS</ows:ServiceType>
	<ows:ServiceTypeVersion>1.0.0</ows:ServiceTypeVersion>
</ows:ServiceIdentification> <!-- Operations Metadata --> <ows:OperationsMetadata>
	<ows:Operation name="GetCapabilities">
		<ows:DCP>
			<ows:HTTP>
				<ows:Get xlink:href="https://www.fairfaxcounty.gov/gisimagery/rest/services/AerialPhotography/MostRecentAerialPhotographyCached/ImageServer/WMTS/1.0.0/WMTSCapabilities.xml">
					<ows:Constraint name="GetEncoding">
						<ows:AllowedValues>
							<ows:Value>RESTful</ows:Value>
						</ows:AllowedValues>
					</ows:Constraint>
				</ows:Get>
                <!-- add KVP binding in 10.1 -->
                <ows:Get xlink:href="https://www.fairfaxcounty.gov/gisimagery/rest/services/AerialPhotography/MostRecentAerialPhotographyCached/ImageServer/WMTS?">
                  <ows:Constraint name="GetEncoding">
                    <ows:AllowedValues>
                      <ows:Value>KVP</ows:Value>
                    </ows:AllowedValues>
                  </ows:Constraint>
                </ows:Get>
    		</ows:HTTP>
    </ows:DCP>
	</ows:Operation>
	<ows:Operation name="GetTile">
		<ows:DCP>
			<ows:HTTP>
				<ows:Get xlink:href="https://www.fairfaxcounty.gov/gisimagery/rest/services/AerialPhotography/MostRecentAerialPhotographyCached/ImageServer/WMTS/tile/1.0.0/">
					<ows:Constraint name="GetEncoding">
						<ows:AllowedValues>
							<ows:Value>RESTful</ows:Value>
						</ows:AllowedValues>
					</ows:Constraint>
				</ows:Get>
                <ows:Get xlink:href="https://www.fairfaxcounty.gov/gisimagery/rest/services/AerialPhotography/MostRecentAerialPhotographyCached/ImageServer/WMTS?">
                  <ows:Constraint name="GetEncoding">
                    <ows:AllowedValues>
                      <ows:Value>KVP</ows:Value>
                    </ows:AllowedValues>
                  </ows:Constraint>
                </ows:Get>
            </ows:HTTP>
		</ows:DCP>
	</ows:Operation>
</ows:OperationsMetadata> 
<Contents>
  <!--Layer-->  
  <Layer>
    <ows:Title>AerialPhotography_MostRecentAerialPhotographyCached</ows:Title> 
    <ows:Identifier>AerialPhotography_MostRecentAerialPhotographyCached</ows:Identifier>
    <ows:BoundingBox crs="urn:ogc:def:crs:EPSG::3857">
	  <ows:LowerCorner>-8631917.86202796 4664869.051755366</ows:LowerCorner>
			<ows:UpperCorner>-8575353.892938688 4730862.93577599</ows:UpperCorner>
		</ows:BoundingBox>  
      <ows:WGS84BoundingBox crs="urn:ogc:def:crs:OGC:2:84">
      <ows:LowerCorner>-77.54183746724019 38.60233890355013</ows:LowerCorner>
      <ows:UpperCorner>-77.03371468760662 39.064137836316995</ows:UpperCorner>
    </ows:WGS84BoundingBox>
    <Style isDefault="true">
      <ows:Title>Default Style</ows:Title>
      <ows:Identifier>default</ows:Identifier>
    </Style>
    <Format>image/jpgpng</Format>
    <TileMatrixSetLink>
      <TileMatrixSet>default028mm</TileMatrixSet>
    </TileMatrixSetLink>
      <TileMatrixSetLink>
          <!--Only show this TileMatrixSet if the tiling scheme is compliant to Google Maps (and that happens with tile width = 256 px)-->
          <TileMatrixSet>GoogleMapsCompatible</TileMatrixSet>
        </TileMatrixSetLink>
      <ResourceURL format="image/jpgpng" resourceType="tile" template="https://www.fairfaxcounty.gov/gisimagery/rest/services/AerialPhotography/MostRecentAerialPhotographyCached/ImageServer/WMTS/tile/1.0.0/AerialPhotography_MostRecentAerialPhotographyCached/{Style}/{TileMatrixSet}/{TileMatrix}/{TileRow}/{TileCol}" />
  </Layer> 
   <!--TileMatrixSet-->
   <TileMatrixSet>
     <ows:Title>TileMatrix using 0.28mm</ows:Title>
     <ows:Abstract>The tile matrix set that has scale values calculated based on the dpi defined by OGC specification (dpi assumes 0.28mm as the physical distance of a pixel).</ows:Abstract> 
     <ows:Identifier>default028mm</ows:Identifier>
     <ows:SupportedCRS>urn:ogc:def:crs:EPSG::3857</ows:SupportedCRS>
      <TileMatrix>
          <ows:Identifier>0</ows:Identifier>
          <ScaleDenominator>5.59082264028501E8</ScaleDenominator>
          <TopLeftCorner>-2.0037508342787E7 2.0037508342787E7</TopLeftCorner>  
          <TileWidth>256</TileWidth> 
          <TileHeight>256</TileHeight>
          <MatrixWidth>1</MatrixWidth> 
            <MatrixHeight>1</MatrixHeight>
          </TileMatrix>
          <TileMatrix>
          <ows:Identifier>1</ows:Identifier>
          <ScaleDenominator>2.7954113201425016E8</ScaleDenominator>
          <TopLeftCorner>-2.0037508342787E7 2.0037508342787E7</TopLeftCorner>  
          <TileWidth>256</TileWidth> 
          <TileHeight>256</TileHeight>
          <MatrixWidth>1</MatrixWidth> 
            <MatrixHeight>1</MatrixHeight>
          </TileMatrix>
          <TileMatrix>
          <ows:Identifier>2</ows:Identifier>
          <ScaleDenominator>1.3977056600712565E8</ScaleDenominator>
          <TopLeftCorner>-2.0037508342787E7 2.0037508342787E7</TopLeftCorner>  
          <TileWidth>256</TileWidth> 
          <TileHeight>256</TileHeight>
          <MatrixWidth>2</MatrixWidth> 
            <MatrixHeight>2</MatrixHeight>
          </TileMatrix>
          <TileMatrix>
          <ows:Identifier>3</ows:Identifier>
          <ScaleDenominator>6.988528300356229E7</ScaleDenominator>
          <TopLeftCorner>-2.0037508342787E7 2.0037508342787E7</TopLeftCorner>  
          <TileWidth>256</TileWidth> 
          <TileHeight>256</TileHeight>
          <MatrixWidth>3</MatrixWidth> 
            <MatrixHeight>4</MatrixHeight>
          </TileMatrix>
          <TileMatrix>
          <ows:Identifier>4</ows:Identifier>
          <ScaleDenominator>3.494264150178117E7</ScaleDenominator>
          <TopLeftCorner>-2.0037508342787E7 2.0037508342787E7</TopLeftCorner>  
          <TileWidth>256</TileWidth> 
          <TileHeight>256</TileHeight>
          <MatrixWidth>5</MatrixWidth> 
            <MatrixHeight>7</MatrixHeight>
          </TileMatrix>
          <TileMatrix>
          <ows:Identifier>5</ows:Identifier>
          <ScaleDenominator>1.7471320750890587E7</ScaleDenominator>
          <TopLeftCorner>-2.0037508342787E7 2.0037508342787E7</TopLeftCorner>  
          <TileWidth>256</TileWidth> 
          <TileHeight>256</TileHeight>
          <MatrixWidth>10</MatrixWidth> 
            <MatrixHeight>13</MatrixHeight>
          </TileMatrix>
          <TileMatrix>
          <ows:Identifier>6</ows:Identifier>
          <ScaleDenominator>8735660.375445293</ScaleDenominator>
          <TopLeftCorner>-2.0037508342787E7 2.0037508342787E7</TopLeftCorner>  
          <TileWidth>256</TileWidth> 
          <TileHeight>256</TileHeight>
          <MatrixWidth>19</MatrixWidth> 
            <MatrixHeight>25</MatrixHeight>
          </TileMatrix>
          <TileMatrix>
          <ows:Identifier>7</ows:Identifier>
          <ScaleDenominator>4367830.187722629</ScaleDenominator>
          <TopLeftCorner>-2.0037508342787E7 2.0037508342787E7</TopLeftCorner>  
          <TileWidth>256</TileWidth> 
          <TileHeight>256</TileHeight>
          <MatrixWidth>37</MatrixWidth> 
            <MatrixHeight>50</MatrixHeight>
          </TileMatrix>
          <TileMatrix>
          <ows:Identifier>8</ows:Identifier>
          <ScaleDenominator>2183915.093861797</ScaleDenominator>
          <TopLeftCorner>-2.0037508342787E7 2.0037508342787E7</TopLeftCorner>  
          <TileWidth>256</TileWidth> 
          <TileHeight>256</TileHeight>
          <MatrixWidth>74</MatrixWidth> 
            <MatrixHeight>99</MatrixHeight>
          </TileMatrix>
          <TileMatrix>
          <ows:Identifier>9</ows:Identifier>
          <ScaleDenominator>1091957.546930427</ScaleDenominator>
          <TopLeftCorner>-2.0037508342787E7 2.0037508342787E7</TopLeftCorner>  
          <TileWidth>256</TileWidth> 
          <TileHeight>256</TileHeight>
          <MatrixWidth>147</MatrixWidth> 
            <MatrixHeight>197</MatrixHeight>
          </TileMatrix>
          <TileMatrix>
          <ows:Identifier>10</ows:Identifier>
          <ScaleDenominator>545978.773465685</ScaleDenominator>
          <TopLeftCorner>-2.0037508342787E7 2.0037508342787E7</TopLeftCorner>  
          <TileWidth>256</TileWidth> 
          <TileHeight>256</TileHeight>
          <MatrixWidth>293</MatrixWidth> 
            <MatrixHeight>393</MatrixHeight>
          </TileMatrix>
          <TileMatrix>
          <ows:Identifier>11</ows:Identifier>
          <ScaleDenominator>272989.38673236995</ScaleDenominator>
          <TopLeftCorner>-2.0037508342787E7 2.0037508342787E7</TopLeftCorner>  
          <TileWidth>256</TileWidth> 
          <TileHeight>256</TileHeight>
          <MatrixWidth>586</MatrixWidth> 
            <MatrixHeight>786</MatrixHeight>
          </TileMatrix>
          <TileMatrix>
          <ows:Identifier>12</ows:Identifier>
          <ScaleDenominator>136494.69336618498</ScaleDenominator>
          <TopLeftCorner>-2.0037508342787E7 2.0037508342787E7</TopLeftCorner>  
          <TileWidth>256</TileWidth> 
          <TileHeight>256</TileHeight>
          <MatrixWidth>1172</MatrixWidth> 
            <MatrixHeight>1572</MatrixHeight>
          </TileMatrix>
          <TileMatrix>
          <ows:Identifier>13</ows:Identifier>
          <ScaleDenominator>68247.34668309249</ScaleDenominator>
          <TopLeftCorner>-2.0037508342787E7 2.0037508342787E7</TopLeftCorner>  
          <TileWidth>256</TileWidth> 
          <TileHeight>256</TileHeight>
          <MatrixWidth>2344</MatrixWidth> 
            <MatrixHeight>3143</MatrixHeight>
          </TileMatrix>
          <TileMatrix>
          <ows:Identifier>14</ows:Identifier>
          <ScaleDenominator>34123.673341546244</ScaleDenominator>
          <TopLeftCorner>-2.0037508342787E7 2.0037508342787E7</TopLeftCorner>  
          <TileWidth>256</TileWidth> 
          <TileHeight>256</TileHeight>
          <MatrixWidth>4687</MatrixWidth> 
            <MatrixHeight>6285</MatrixHeight>
          </TileMatrix>
          <TileMatrix>
          <ows:Identifier>15</ows:Identifier>
          <ScaleDenominator>17061.836671245605</ScaleDenominator>
          <TopLeftCorner>-2.0037508342787E7 2.0037508342787E7</TopLeftCorner>  
          <TileWidth>256</TileWidth> 
          <TileHeight>256</TileHeight>
          <MatrixWidth>9373</MatrixWidth> 
            <MatrixHeight>12570</MatrixHeight>
          </TileMatrix>
          <TileMatrix>
          <ows:Identifier>16</ows:Identifier>
          <ScaleDenominator>8530.918335622784</ScaleDenominator>
          <TopLeftCorner>-2.0037508342787E7 2.0037508342787E7</TopLeftCorner>  
          <TileWidth>256</TileWidth> 
          <TileHeight>256</TileHeight>
          <MatrixWidth>18745</MatrixWidth> 
            <MatrixHeight>25140</MatrixHeight>
          </TileMatrix>
          <TileMatrix>
          <ows:Identifier>17</ows:Identifier>
          <ScaleDenominator>4265.459167338928</ScaleDenominator>
          <TopLeftCorner>-2.0037508342787E7 2.0037508342787E7</TopLeftCorner>  
          <TileWidth>256</TileWidth> 
          <TileHeight>256</TileHeight>
          <MatrixWidth>37489</MatrixWidth> 
            <MatrixHeight>50279</MatrixHeight>
          </TileMatrix>
          <TileMatrix>
          <ows:Identifier>18</ows:Identifier>
          <ScaleDenominator>2132.7295841419354</ScaleDenominator>
          <TopLeftCorner>-2.0037508342787E7 2.0037508342787E7</TopLeftCorner>  
          <TileWidth>256</TileWidth> 
          <TileHeight>256</TileHeight>
          <MatrixWidth>74978</MatrixWidth> 
            <MatrixHeight>100558</MatrixHeight>
          </TileMatrix>
          <TileMatrix>
          <ows:Identifier>19</ows:Identifier>
          <ScaleDenominator>1066.364791598498</ScaleDenominator>
          <TopLeftCorner>-2.0037508342787E7 2.0037508342787E7</TopLeftCorner>  
          <TileWidth>256</TileWidth> 
          <TileHeight>256</TileHeight>
          <MatrixWidth>149956</MatrixWidth> 
            <MatrixHeight>201116</MatrixHeight>
          </TileMatrix>
          <TileMatrix>
          <ows:Identifier>20</ows:Identifier>
          <ScaleDenominator>533.1823957992484</ScaleDenominator>
          <TopLeftCorner>-2.0037508342787E7 2.0037508342787E7</TopLeftCorner>  
          <TileWidth>256</TileWidth> 
          <TileHeight>256</TileHeight>
          <MatrixWidth>299912</MatrixWidth> 
            <MatrixHeight>402231</MatrixHeight>
          </TileMatrix>
          <TileMatrix>
          <ows:Identifier>21</ows:Identifier>
          <ScaleDenominator>266.5911978996242</ScaleDenominator>
          <TopLeftCorner>-2.0037508342787E7 2.0037508342787E7</TopLeftCorner>  
          <TileWidth>256</TileWidth> 
          <TileHeight>256</TileHeight>
          <MatrixWidth>599823</MatrixWidth> 
            <MatrixHeight>804461</MatrixHeight>
          </TileMatrix>
          <TileMatrix>
          <ows:Identifier>22</ows:Identifier>
          <ScaleDenominator>133.2955989498121</ScaleDenominator>
          <TopLeftCorner>-2.0037508342787E7 2.0037508342787E7</TopLeftCorner>  
          <TileWidth>256</TileWidth> 
          <TileHeight>256</TileHeight>
          <MatrixWidth>1199645</MatrixWidth> 
            <MatrixHeight>1608921</MatrixHeight>
          </TileMatrix>
          <TileMatrix>
          <ows:Identifier>23</ows:Identifier>
          <ScaleDenominator>66.64779947490605</ScaleDenominator>
          <TopLeftCorner>-2.0037508342787E7 2.0037508342787E7</TopLeftCorner>  
          <TileWidth>256</TileWidth> 
          <TileHeight>256</TileHeight>
          <MatrixWidth>2399289</MatrixWidth> 
            <MatrixHeight>3217842</MatrixHeight>
          </TileMatrix>
          </TileMatrixSet>
   <TileMatrixSet>
      <ows:Title>GoogleMapsCompatible</ows:Title>
      <ows:Abstract>the wellknown 'GoogleMapsCompatible' tile matrix set defined by OGC WMTS specification</ows:Abstract>
      <ows:Identifier>GoogleMapsCompatible</ows:Identifier>
      <ows:SupportedCRS>urn:ogc:def:crs:EPSG:6.18.3:3857</ows:SupportedCRS>
      <WellKnownScaleSet>urn:ogc:def:wkss:OGC:1.0:GoogleMapsCompatible</WellKnownScaleSet>
      <TileMatrix>
        <ows:Identifier>0</ows:Identifier>
        <ScaleDenominator>559082264.0287178</ScaleDenominator>
        <TopLeftCorner>-20037508.34278925 20037508.34278925</TopLeftCorner>
        <TileWidth>256</TileWidth>
        <TileHeight>256</TileHeight>
        <MatrixWidth>1</MatrixWidth>
        <MatrixHeight>1</MatrixHeight>
      </TileMatrix>
      <TileMatrix>
        <ows:Identifier>1</ows:Identifier>
        <ScaleDenominator>279541132.0143589</ScaleDenominator>
        <TopLeftCorner>-20037508.34278925 20037508.34278925</TopLeftCorner>
        <TileWidth>256</TileWidth>
        <TileHeight>256</TileHeight>
        <MatrixWidth>2</MatrixWidth>
        <MatrixHeight>2</MatrixHeight>
      </TileMatrix>
      <TileMatrix>
        <ows:Identifier>2</ows:Identifier>
        <ScaleDenominator>139770566.0071794</ScaleDenominator>
        <TopLeftCorner>-20037508.34278925 20037508.34278925</TopLeftCorner>
        <TileWidth>256</TileWidth>
        <TileHeight>256</TileHeight>
        <MatrixWidth>4</MatrixWidth>
        <MatrixHeight>4</MatrixHeight>
      </TileMatrix>
      <TileMatrix>
        <ows:Identifier>3</ows:Identifier>
        <ScaleDenominator>69885283.00358972</ScaleDenominator>
        <TopLeftCorner>-20037508.34278925 20037508.34278925</TopLeftCorner>
        <TileWidth>256</TileWidth>
        <TileHeight>256</TileHeight>
        <MatrixWidth>8</MatrixWidth>
        <MatrixHeight>8</MatrixHeight>
      </TileMatrix>
      <TileMatrix>
        <ows:Identifier>4</ows:Identifier>
        <ScaleDenominator>34942641.50179486</ScaleDenominator>
        <TopLeftCorner>-20037508.34278925 20037508.34278925</TopLeftCorner>
        <TileWidth>256</TileWidth>
        <TileHeight>256</TileHeight>
        <MatrixWidth>16</MatrixWidth>
        <MatrixHeight>16</MatrixHeight>
      </TileMatrix>
      <TileMatrix>
        <ows:Identifier>5</ows:Identifier>
        <ScaleDenominator>17471320.75089743</ScaleDenominator>
        <TopLeftCorner>-20037508.34278925 20037508.34278925</TopLeftCorner>
        <TileWidth>256</TileWidth>
        <TileHeight>256</TileHeight>
        <MatrixWidth>32</MatrixWidth>
        <MatrixHeight>32</MatrixHeight>
      </TileMatrix>
      <TileMatrix>
        <ows:Identifier>6</ows:Identifier>
        <ScaleDenominator>8735660.375448715</ScaleDenominator>
        <TopLeftCorner>-20037508.34278925 20037508.34278925</TopLeftCorner>
        <TileWidth>256</TileWidth>
        <TileHeight>256</TileHeight>
        <MatrixWidth>64</MatrixWidth>
        <MatrixHeight>64</MatrixHeight>
      </TileMatrix>
      <TileMatrix>
        <ows:Identifier>7</ows:Identifier>
        <ScaleDenominator>4367830.187724357</ScaleDenominator>
        <TopLeftCorner>-20037508.34278925 20037508.34278925</TopLeftCorner>
        <TileWidth>256</TileWidth>
        <TileHeight>256</TileHeight>
        <MatrixWidth>128</MatrixWidth>
        <MatrixHeight>128</MatrixHeight>
      </TileMatrix>
      <TileMatrix>
        <ows:Identifier>8</ows:Identifier>
        <ScaleDenominator>2183915.093862179</ScaleDenominator>
        <TopLeftCorner>-20037508.34278925 20037508.34278925</TopLeftCorner>
        <TileWidth>256</TileWidth>
        <TileHeight>256</TileHeight>
        <MatrixWidth>256</MatrixWidth>
        <MatrixHeight>256</MatrixHeight>
      </TileMatrix>
      <TileMatrix>
        <ows:Identifier>9</ows:Identifier>
        <ScaleDenominator>1091957.546931089</ScaleDenominator>
        <TopLeftCorner>-20037508.34278925 20037508.34278925</TopLeftCorner>
        <TileWidth>256</TileWidth>
        <TileHeight>256</TileHeight>
        <MatrixWidth>512</MatrixWidth>
        <MatrixHeight>512</MatrixHeight>
      </TileMatrix>
      <TileMatrix>
        <ows:Identifier>10</ows:Identifier>
        <ScaleDenominator>545978.7734655447</ScaleDenominator>
        <TopLeftCorner>-20037508.34278925 20037508.34278925</TopLeftCorner>
        <TileWidth>256</TileWidth>
        <TileHeight>256</TileHeight>
        <MatrixWidth>1024</MatrixWidth>
        <MatrixHeight>1024</MatrixHeight>
      </TileMatrix>
      <TileMatrix>
        <ows:Identifier>11</ows:Identifier>
        <ScaleDenominator>272989.3867327723</ScaleDenominator>
        <TopLeftCorner>-20037508.34278925 20037508.34278925</TopLeftCorner>
        <TileWidth>256</TileWidth>
        <TileHeight>256</TileHeight>
        <MatrixWidth>2048</MatrixWidth>
        <MatrixHeight>2048</MatrixHeight>
      </TileMatrix>
      <TileMatrix>
        <ows:Identifier>12</ows:Identifier>
        <ScaleDenominator>136494.6933663862</ScaleDenominator>
        <TopLeftCorner>-20037508.34278925 20037508.34278925</TopLeftCorner>
        <TileWidth>256</TileWidth>
        <TileHeight>256</TileHeight>
        <MatrixWidth>4096</MatrixWidth>
        <MatrixHeight>4096</MatrixHeight>
      </TileMatrix>
      <TileMatrix>
        <ows:Identifier>13</ows:Identifier>
        <ScaleDenominator>68247.34668319309</ScaleDenominator>
        <TopLeftCorner>-20037508.34278925 20037508.34278925</TopLeftCorner>
        <TileWidth>256</TileWidth>
        <TileHeight>256</TileHeight>
        <MatrixWidth>8192</MatrixWidth>
        <MatrixHeight>8192</MatrixHeight>
      </TileMatrix>
      <TileMatrix>
        <ows:Identifier>14</ows:Identifier>
        <ScaleDenominator>34123.67334159654</ScaleDenominator>
        <TopLeftCorner>-20037508.34278925 20037508.34278925</TopLeftCorner>
        <TileWidth>256</TileWidth>
        <TileHeight>256</TileHeight>
        <MatrixWidth>16384</MatrixWidth>
        <MatrixHeight>16384</MatrixHeight>
      </TileMatrix>
      <TileMatrix>
        <ows:Identifier>15</ows:Identifier>
        <ScaleDenominator>17061.83667079827</ScaleDenominator>
        <TopLeftCorner>-20037508.34278925 20037508.34278925</TopLeftCorner>
        <TileWidth>256</TileWidth>
        <TileHeight>256</TileHeight>
        <MatrixWidth>32768</MatrixWidth>
        <MatrixHeight>32768</MatrixHeight>
      </TileMatrix>
      <TileMatrix>
        <ows:Identifier>16</ows:Identifier>
        <ScaleDenominator>8530.918335399136</ScaleDenominator>
        <TopLeftCorner>-20037508.34278925 20037508.34278925</TopLeftCorner>
        <TileWidth>256</TileWidth>
        <TileHeight>256</TileHeight>
        <MatrixWidth>65536</MatrixWidth>
        <MatrixHeight>65536</MatrixHeight>
      </TileMatrix>
      <TileMatrix>
        <ows:Identifier>17</ows:Identifier>
        <ScaleDenominator>4265.459167699568</ScaleDenominator>
        <TopLeftCorner>-20037508.34278925 20037508.34278925</TopLeftCorner>
        <TileWidth>256</TileWidth>
        <TileHeight>256</TileHeight>
        <MatrixWidth>131072</MatrixWidth>
        <MatrixHeight>131072</MatrixHeight>
      </TileMatrix>
      <TileMatrix>
        <ows:Identifier>18</ows:Identifier>
        <ScaleDenominator>2132.729583849784</ScaleDenominator>
        <TopLeftCorner>-20037508.34278925 20037508.34278925</TopLeftCorner>
        <TileWidth>256</TileWidth>
        <TileHeight>256</TileHeight>
        <MatrixWidth>262144</MatrixWidth>
        <MatrixHeight>262144</MatrixHeight>
      </TileMatrix>
      </TileMatrixSet>
    </Contents>
<ServiceMetadataURL xlink:href="https://www.fairfaxcounty.gov/gisimagery/rest/services/AerialPhotography/MostRecentAerialPhotographyCached/ImageServer/WMTS/1.0.0/WMTSCapabilities.xml" /> 
</Capabilities>
