<?xml version="1.0" encoding="UTF-8" standalone="no"?>
<metadata xml:lang="en">
  <Esri>
    <CreaDate>20170707</CreaDate>
    <CreaTime>14004500</CreaTime>
    <ArcGISFormat>1.0</ArcGISFormat>
    <ArcGISstyle>FGDC CSDGM Metadata</ArcGISstyle>
    <SyncOnce>FALSE</SyncOnce>
    <DataProperties>
      <lineage>
        <Process Date="20170707" Name="" Time="140045" ToolSource="c:\program files (x86)\arcgis\desktop10.4\ArcToolbox\Toolboxes\Data Management Tools.tbx\CreateMosaicDataset" export="">CreateMosaicDataset \\ffx\ffxdfs\apps\GIS\raster\lidar\2014_USGS_LIDAR2\Classified_LAS\EXTRACTED\CountywideRasters.gdb SurfaceModel "PROJCS['NAD_1983_UTM_Zone_18N',GEOGCS['GCS_North_American_1983',DATUM['D_North_American_1983',SPHEROID['GRS_1980',6378137.0,298.257222101]],PRIMEM['Greenwich',0.0],UNIT['Degree',0.0174532925199433]],PROJECTION['Transverse_Mercator'],PARAMETER['False_Easting',500000.0],PARAMETER['False_Northing',0.0],PARAMETER['Central_Meridian',-75.0],PARAMETER['Scale_Factor',0.9996],PARAMETER['Latitude_Of_Origin',0.0],UNIT['Meter',1.0]],VERTCS['NAVD_1988',VDATUM['North_American_Vertical_Datum_1988'],PARAMETER['Vertical_Shift',0.0],PARAMETER['Direction',1.0],UNIT['Meter',1.0]];-5120900 -9998100 450445547.391054;-100000 10000;-100000 10000;0.001;0.001;0.001;IsHighPrecision" # # NONE #</Process>
        <Process Date="20170707" Name="" Time="140223" ToolSource="c:\program files (x86)\arcgis\desktop10.4\ArcToolbox\Toolboxes\Data Management Tools.tbx\AddRastersToMosaicDataset" export="">AddRastersToMosaicDataset \\ffx\ffxdfs\apps\GIS\raster\lidar\2014_USGS_LIDAR2\Classified_LAS\EXTRACTED\CountywideRasters.gdb\SurfaceModel "Raster Dataset" \\ffx\ffxdfs\apps\GIS\raster\lidar\2014_USGS_LIDAR2\Classified_LAS\EXTRACTED\surfacemodel UPDATE_CELL_SIZES UPDATE_BOUNDARY UPDATE_OVERVIEWS # 0 1500 # # SUBFOLDERS ALLOW_DUPLICATES BUILD_PYRAMIDS CALCULATE_STATISTICS NO_THUMBNAILS # NO_FORCE_SPATIAL_REFERENCE ESTIMATE_STATISTICS #</Process>
      </lineage>
      <itemProps>
        <itemName Sync="TRUE">SurfaceModel</itemName>
        <itemLocation>
          <linkage Sync="TRUE">file://\\ffx\ffxdfs\apps\GIS\raster\lidar\2014_USGS_LIDAR2\Classified_LAS\EXTRACTED\CountywideRasters.gdb</linkage>
          <protocol Sync="TRUE">Local Area Network</protocol>
        </itemLocation>
        <nativeExtBox>
          <westBL Sync="TRUE">279000.000000</westBL>
          <eastBL Sync="TRUE">324000.000000</eastBL>
          <southBL Sync="TRUE">4275000.000000</southBL>
          <northBL Sync="TRUE">4326000.000000</northBL>
          <exTypeCode Sync="TRUE">1</exTypeCode>
        </nativeExtBox>
      </itemProps>
      <coordRef>
        <type Sync="TRUE">Projected</type>
        <geogcsn Sync="TRUE">GCS_North_American_1983</geogcsn>
        <csUnits Sync="TRUE">Linear Unit: Meter (1.000000)</csUnits>
        <projcsn Sync="TRUE">NAD_1983_UTM_Zone_18N</projcsn>
        <peXml Sync="TRUE">&lt;ProjectedCoordinateSystem xsi:type='typens:ProjectedCoordinateSystem' xmlns:xsi='http://www.w3.org/2001/XMLSchema-instance' xmlns:xs='http://www.w3.org/2001/XMLSchema' xmlns:typens='http://www.esri.com/schemas/ArcGIS/10.1'&gt;&lt;WKT&gt;PROJCS[&amp;quot;NAD_1983_UTM_Zone_18N&amp;quot;,GEOGCS[&amp;quot;GCS_North_American_1983&amp;quot;,DATUM[&amp;quot;D_North_American_1983&amp;quot;,SPHEROID[&amp;quot;GRS_1980&amp;quot;,6378137.0,298.257222101]],PRIMEM[&amp;quot;Greenwich&amp;quot;,0.0],UNIT[&amp;quot;Degree&amp;quot;,0.0174532925199433]],PROJECTION[&amp;quot;Transverse_Mercator&amp;quot;],PARAMETER[&amp;quot;False_Easting&amp;quot;,500000.0],PARAMETER[&amp;quot;False_Northing&amp;quot;,0.0],PARAMETER[&amp;quot;Central_Meridian&amp;quot;,-75.0],PARAMETER[&amp;quot;Scale_Factor&amp;quot;,0.9996],PARAMETER[&amp;quot;Latitude_Of_Origin&amp;quot;,0.0],UNIT[&amp;quot;Meter&amp;quot;,1.0],AUTHORITY[&amp;quot;EPSG&amp;quot;,26918]],VERTCS[&amp;quot;NAVD_1988&amp;quot;,VDATUM[&amp;quot;North_American_Vertical_Datum_1988&amp;quot;],PARAMETER[&amp;quot;Vertical_Shift&amp;quot;,0.0],PARAMETER[&amp;quot;Direction&amp;quot;,1.0],UNIT[&amp;quot;Meter&amp;quot;,1.0],AUTHORITY[&amp;quot;EPSG&amp;quot;,5703]]&lt;/WKT&gt;&lt;XOrigin&gt;-5120900&lt;/XOrigin&gt;&lt;YOrigin&gt;-9998100&lt;/YOrigin&gt;&lt;XYScale&gt;450445547.3910538&lt;/XYScale&gt;&lt;ZOrigin&gt;-100000&lt;/ZOrigin&gt;&lt;ZScale&gt;10000&lt;/ZScale&gt;&lt;MOrigin&gt;-100000&lt;/MOrigin&gt;&lt;MScale&gt;10000&lt;/MScale&gt;&lt;XYTolerance&gt;0.001&lt;/XYTolerance&gt;&lt;ZTolerance&gt;0.001&lt;/ZTolerance&gt;&lt;MTolerance&gt;0.001&lt;/MTolerance&gt;&lt;HighPrecision&gt;true&lt;/HighPrecision&gt;&lt;WKID&gt;26918&lt;/WKID&gt;&lt;LatestWKID&gt;26918&lt;/LatestWKID&gt;&lt;VCSWKID&gt;5703&lt;/VCSWKID&gt;&lt;LatestVCSWKID&gt;5703&lt;/LatestVCSWKID&gt;&lt;/ProjectedCoordinateSystem&gt;</peXml>
      </coordRef>
      <RasterProperties>
        <General>
          <PixelDepth Sync="TRUE">32</PixelDepth>
          <HasColormap Sync="TRUE">FALSE</HasColormap>
          <CompressionType Sync="TRUE">None</CompressionType>
          <NumBands Sync="TRUE">1</NumBands>
          <Format Sync="TRUE">AMD</Format>
          <HasPyramids Sync="TRUE">TRUE</HasPyramids>
          <SourceType Sync="TRUE">continuous</SourceType>
          <PixelType Sync="TRUE">floating point</PixelType>
          <NoDataValue Sync="TRUE"/>
        </General>
        <Properties>
          <MaxImageHeight Sync="TRUE">4100</MaxImageHeight>
          <MaxImageWidth Sync="TRUE">15000</MaxImageWidth>
          <MaxRecordCount Sync="TRUE">1000</MaxRecordCount>
          <MaxDownloadImageCount Sync="TRUE">20</MaxDownloadImageCount>
          <MaxDownloadSizeLimit Sync="TRUE">2048</MaxDownloadSizeLimit>
          <MaxMosaicImageCount Sync="TRUE">20</MaxMosaicImageCount>
          <DefaultCompressionQuality Sync="TRUE">75</DefaultCompressionQuality>
          <DefaultCompressionTolerance Sync="TRUE">0.01</DefaultCompressionTolerance>
          <BlendWidth Sync="TRUE">10</BlendWidth>
          <ViewpointSpacingX Sync="TRUE">600</ViewpointSpacingX>
          <ViewpointSpacingY Sync="TRUE">300</ViewpointSpacingY>
          <AllowedItemMetadata Sync="TRUE">Basic</AllowedItemMetadata>
          <DefaultResamplingMethod Sync="TRUE">1</DefaultResamplingMethod>
          <AllowedMosaicMethods Sync="TRUE">NorthWest,Center,LockRaster,ByAttribute,Nadir,Viewpoint,Seamline,None</AllowedMosaicMethods>
          <AllowedCompressions Sync="TRUE">None,JPEG,LZ77,LERC</AllowedCompressions>
          <AllowedMensurationCapabilities Sync="TRUE">Basic</AllowedMensurationCapabilities>
          <AvailableMensurationCapabilities Sync="TRUE">None,Basic,Base-Top Height,Top-Top Shadow Height,Base-Top Shadow Height,3D</AvailableMensurationCapabilities>
          <ClipToBoundary Sync="TRUE">-1</ClipToBoundary>
          <FootprintMayContainNoData Sync="TRUE">-1</FootprintMayContainNoData>
          <CellSizeTolerance Sync="TRUE">0.8</CellSizeTolerance>
          <MinimumPixelContribution Sync="TRUE">1</MinimumPixelContribution>
          <AvailableMosaicMethods Sync="TRUE">NorthWest,Center,LockRaster,ByAttribute,Nadir,Viewpoint,Seamline,None</AvailableMosaicMethods>
          <AvailableCompressionMethods Sync="TRUE">None,JPEG,LZ77,LERC</AvailableCompressionMethods>
          <AvailableItemMetadataLevels Sync="TRUE">None,Basic,Full</AvailableItemMetadataLevels>
          <ConfigKeyword Sync="TRUE"/>
          <BandDefinitionKeyword Sync="TRUE">NONE</BandDefinitionKeyword>
          <AllowedFields Sync="TRUE">Name,MinPS,MaxPS,LowPS,HighPS,Tag,GroupName,ProductName,CenterX,CenterY,ZOrder,Shape_Length,Shape_Area</AllowedFields>
          <LowCellSize Sync="TRUE">1</LowCellSize>
          <HighCellSize Sync="TRUE">432</HighCellSize>
          <MaxCellSize Sync="TRUE">21600</MaxCellSize>
        </Properties>
        <Functions Sync="TRUE">
          <Function Description="Performs on-the-fly mosaic on a raster catalog." Name="Mosaic Function"/>
        </Functions>
      </RasterProperties>
    </DataProperties>
    <SyncDate>20181221</SyncDate>
    <SyncTime>16460200</SyncTime>
    <ModDate>20221128</ModDate>
    <ModTime>14110100</ModTime>
    <scaleRange>
      <minScale>150000000</minScale>
      <maxScale>5000</maxScale>
    </scaleRange>
    <ArcGISProfile>FGDC</ArcGISProfile>
  </Esri>
  <dataIdInfo>
    <envirDesc Sync="TRUE"> Version 6.2 (Build 9200) ; Esri ArcGIS 10.2.1.3497</envirDesc>
    <dataLang>
      <languageCode Sync="TRUE" value="eng"/>
      <countryCode Sync="TRUE" value="USA"/>
    </dataLang>
    <idCitation>
      <resTitle Sync="TRUE">SurfaceModel</resTitle>
      <presForm>
        <PresFormCd Sync="TRUE" value="005"/>
      </presForm>
    </idCitation>
    <spatRpType>
      <SpatRepTypCd Sync="TRUE" value="002"/>
    </spatRpType>
    <dataExt>
      <geoEle>
        <GeoBndBox esriExtentType="search">
          <exTypeCode Sync="TRUE">1</exTypeCode>
          <westBL Sync="TRUE">-77.554014</westBL>
          <eastBL Sync="TRUE">-77.021272</eastBL>
          <northBL Sync="TRUE">39.065367</northBL>
          <southBL Sync="TRUE">38.596000</southBL>
        </GeoBndBox>
      </geoEle>
    </dataExt>
    <idAbs>&lt;DIV STYLE="text-align:Left;"&gt;&lt;DIV&gt;&lt;DIV&gt;&lt;P&gt;&lt;SPAN&gt;LiDAR surface showing ground elevation and above ground features. Where above ground features are present, the elevation represents ground elevation + height of the above ground feature (for above ground heights only, refer to the Height Above Ground LiDAR surface). Vertical Units are in meters referenced to North American Vertical Datum of 1988 (NAVD88). To download LiDAR data, please go to the US Geological Survey's National Map Viewer.&lt;/SPAN&gt;&lt;/P&gt;&lt;/DIV&gt;&lt;/DIV&gt;&lt;/DIV&gt;</idAbs>
    <searchKeys>
      <keyword>elevation</keyword>
      <keyword>dsm</keyword>
      <keyword>lidar</keyword>
      <keyword>fairfax county</keyword>
    </searchKeys>
    <idPurp>LiDAR surface showing ground elevation and above ground features.</idPurp>
    <idCredit/>
    <resConst>
      <Consts>
        <useLimit/>
      </Consts>
    </resConst>
  </dataIdInfo>
  <mdLang>
    <languageCode Sync="TRUE" value="eng"/>
    <countryCode Sync="TRUE" value="USA"/>
  </mdLang>
  <refSysInfo>
    <RefSystem>
      <refSysID>
        <identCode Sync="TRUE" code="26918"/>
        <idCodeSpace Sync="TRUE">EPSG</idCodeSpace>
        <idVersion Sync="TRUE">8.2.6</idVersion>
      </refSysID>
    </RefSystem>
  </refSysInfo>
  <spatRepInfo>
    <Georect>
      <cellGeo>
        <CellGeoCd Sync="TRUE" value="002"/>
      </cellGeo>
      <numDims Sync="TRUE">2</numDims>
      <tranParaAv Sync="TRUE">1</tranParaAv>
      <chkPtAv Sync="TRUE">0</chkPtAv>
      <cornerPts>
        <pos Sync="TRUE">279000.000000 4275000.000000</pos>
      </cornerPts>
      <cornerPts>
        <pos Sync="TRUE">279000.000000 4326000.000000</pos>
      </cornerPts>
      <cornerPts>
        <pos Sync="TRUE">324000.000000 4326000.000000</pos>
      </cornerPts>
      <cornerPts>
        <pos Sync="TRUE">324000.000000 4275000.000000</pos>
      </cornerPts>
      <centerPt>
        <pos Sync="TRUE">301500.000000 4300500.000000</pos>
      </centerPt>
      <axisDimension type="002">
        <dimSize Sync="TRUE">45000</dimSize>
        <dimResol>
          <value Sync="TRUE" uom="Meter">1.000000</value>
        </dimResol>
      </axisDimension>
      <axisDimension type="001">
        <dimSize Sync="TRUE">51000</dimSize>
        <dimResol>
          <value Sync="TRUE" uom="Meter">1.000000</value>
        </dimResol>
      </axisDimension>
      <ptInPixel>
        <PixOrientCd Sync="TRUE" value="001"/>
      </ptInPixel>
    </Georect>
  </spatRepInfo>
  <contInfo>
    <ImgDesc>
      <contentTyp>
        <ContentTypCd Sync="TRUE" value="001"/>
      </contentTyp>
      <covDim>
        <Band>
          <dimDescrp Sync="TRUE">Band_1</dimDescrp>
          <maxVal Sync="TRUE">217.610626</maxVal>
          <minVal Sync="TRUE">-29.605825</minVal>
          <bitsPerVal Sync="TRUE">32</bitsPerVal>
          <valUnit>
            <UOM type="length"/>
          </valUnit>
        </Band>
      </covDim>
    </ImgDesc>
  </contInfo>
  <mdDateSt Sync="TRUE">20221128</mdDateSt>
  <mdHrLv>
    <ScopeCd value="005"/>
  </mdHrLv>
</metadata>
