<?xml version="1.0" encoding="UTF-8" standalone="no"?>
<metadata xml:lang="en">
  <Esri>
    <CreaDate>20211005</CreaDate>
    <CreaTime>06592500</CreaTime>
    <ArcGISFormat>1.0</ArcGISFormat>
    <SyncOnce>FALSE</SyncOnce>
    <DataProperties>
      <lineage>
        <Process Date="20211005" Name="" Time="065925" ToolSource="c:\program files\arcgis\pro\Resources\ArcToolbox\toolboxes\Spatial Analyst Tools.tbx\ExtractByMask" export="">ExtractByMask "Reprojected Rasters\AlbedoAverages.tif" CountyBorder \\ffx\ffxdfs\apps\GIS\raster\ResilientFairfax\AlbedoAverages1.tif</Process>
        <Process Date="20211005" Name="" Time="070245" ToolSource="c:\program files\arcgis\pro\Resources\ArcToolbox\toolboxes\Data Management Tools.tbx\Rename" export="">Rename \\ffx\ffxdfs\apps\GIS\raster\ResilientFairfax\AlbedoAverages1.tif \\ffx\ffxdfs\apps\GIS\raster\ResilientFairfax\AlbedoAverages.tif RasterDataset</Process>
      </lineage>
      <itemProps>
        <itemName Sync="TRUE">AlbedoAverages.tif</itemName>
        <itemLocation>
          <linkage Sync="TRUE">file://\\ffx\ffxdfs\apps\GIS\raster\ResilientFairfax\AlbedoAverages.tif</linkage>
          <protocol Sync="TRUE">Local Area Network</protocol>
        </itemLocation>
        <imsContentType Sync="TRUE">002</imsContentType>
        <nativeExtBox>
          <westBL Sync="TRUE">11757101.691456</westBL>
          <eastBL Sync="TRUE">11899030.541456</eastBL>
          <southBL Sync="TRUE">6905457.285282</southBL>
          <northBL Sync="TRUE">7070417.585282</northBL>
          <exTypeCode Sync="TRUE">1</exTypeCode>
        </nativeExtBox>
      </itemProps>
      <coordRef>
        <type Sync="TRUE">Projected</type>
        <geogcsn Sync="TRUE">GCS_NAD_1983_2011</geogcsn>
        <csUnits Sync="TRUE">Linear Unit: Foot_US (0.304801)</csUnits>
        <projcsn Sync="TRUE">NAD_1983_2011_StatePlane_Virginia_North_FIPS_4501_Ft_US</projcsn>
        <peXml Sync="TRUE">&lt;ProjectedCoordinateSystem xsi:type='typens:ProjectedCoordinateSystem' xmlns:xsi='http://www.w3.org/2001/XMLSchema-instance' xmlns:xs='http://www.w3.org/2001/XMLSchema' xmlns:typens='http://www.esri.com/schemas/ArcGIS/10.8'&gt;&lt;WKT&gt;PROJCS[&amp;quot;NAD_1983_2011_StatePlane_Virginia_North_FIPS_4501_Ft_US&amp;quot;,GEOGCS[&amp;quot;GCS_NAD_1983_2011&amp;quot;,DATUM[&amp;quot;D_NAD_1983_2011&amp;quot;,SPHEROID[&amp;quot;GRS_1980&amp;quot;,6378137.0,298.257222101]],PRIMEM[&amp;quot;Greenwich&amp;quot;,0.0],UNIT[&amp;quot;Degree&amp;quot;,0.0174532925199433]],PROJECTION[&amp;quot;Lambert_Conformal_Conic&amp;quot;],PARAMETER[&amp;quot;False_Easting&amp;quot;,11482916.66666666],PARAMETER[&amp;quot;False_Northing&amp;quot;,6561666.666666666],PARAMETER[&amp;quot;Central_Meridian&amp;quot;,-78.5],PARAMETER[&amp;quot;Standard_Parallel_1&amp;quot;,38.03333333333333],PARAMETER[&amp;quot;Standard_Parallel_2&amp;quot;,39.2],PARAMETER[&amp;quot;Latitude_Of_Origin&amp;quot;,37.66666666666666],UNIT[&amp;quot;Foot_US&amp;quot;,0.3048006096012192],AUTHORITY[&amp;quot;EPSG&amp;quot;,6593]]&lt;/WKT&gt;&lt;XOrigin&gt;-110512500&lt;/XOrigin&gt;&lt;YOrigin&gt;-88858000&lt;/YOrigin&gt;&lt;XYScale&gt;36916142.964165002&lt;/XYScale&gt;&lt;ZOrigin&gt;-100000&lt;/ZOrigin&gt;&lt;ZScale&gt;10000&lt;/ZScale&gt;&lt;MOrigin&gt;-100000&lt;/MOrigin&gt;&lt;MScale&gt;10000&lt;/MScale&gt;&lt;XYTolerance&gt;0.0032808333333333331&lt;/XYTolerance&gt;&lt;ZTolerance&gt;0.001&lt;/ZTolerance&gt;&lt;MTolerance&gt;0.001&lt;/MTolerance&gt;&lt;HighPrecision&gt;true&lt;/HighPrecision&gt;&lt;WKID&gt;103176&lt;/WKID&gt;&lt;LatestWKID&gt;6593&lt;/LatestWKID&gt;&lt;/ProjectedCoordinateSystem&gt;</peXml>
      </coordRef>
      <RasterProperties>
        <General>
          <PixelDepth Sync="TRUE">32</PixelDepth>
          <HasColormap Sync="TRUE">FALSE</HasColormap>
          <CompressionType Sync="TRUE">None</CompressionType>
          <NumBands Sync="TRUE">1</NumBands>
          <Format Sync="TRUE">TIFF</Format>
          <HasPyramids Sync="TRUE">TRUE</HasPyramids>
          <SourceType Sync="TRUE">continuous</SourceType>
          <PixelType Sync="TRUE">floating point</PixelType>
          <NoDataValue Sync="TRUE">-3.4028235e+38</NoDataValue>
        </General>
      </RasterProperties>
    </DataProperties>
    <scaleRange>
      <minScale>150000000</minScale>
      <maxScale>5000</maxScale>
    </scaleRange>
    <ArcGISProfile>ItemDescription</ArcGISProfile>
    <SyncDate>20211007</SyncDate>
    <SyncTime>07242700</SyncTime>
    <ModDate>20211007</ModDate>
    <ModTime>07242700</ModTime>
  </Esri>
  <dataIdInfo>
    <idAbs>&lt;DIV STYLE="text-align:Left;"&gt;&lt;DIV&gt;&lt;DIV&gt;&lt;P&gt;&lt;SPAN STYLE="font-weight:bold;"&gt;&lt;SPAN&gt;Methodology and Additional Source Info:  &lt;/SPAN&gt;&lt;/SPAN&gt;&lt;SPAN&gt;&lt;SPAN&gt;This data was measured by the National Aeronautics and Space Administration (NASA)'s Landsat 8 satellite's dataset acquired from USGS Earth Explorer. The data was compiled and mapped for Fairfax County through a partnership between the Fairfax County Office of Environmental and Energy Coordination (OEEC) and the NASA DEVELOP program as part of the "Resilient Fairfax" Climate Adaptation and Resilience Plan process.&lt;/SPAN&gt;&lt;/SPAN&gt;&lt;/P&gt;&lt;P&gt;&lt;SPAN /&gt;&lt;SPAN /&gt;&lt;SPAN /&gt;&lt;SPAN STYLE="font-weight:bold;"&gt;&lt;SPAN&gt;Description: &lt;/SPAN&gt;&lt;/SPAN&gt;&lt;SPAN&gt;&lt;SPAN&gt;Dark colored surfaces such as black asphalt left in the sun get hot. Lighter-colored objects such as white roofs reflect the sun and so do not get as hot. This is called "albedo." On a large scale, albedo contributes to the "urban heat island effect," where areas with many parking lots, roads, and dense, dark-colored buildings are significantly hotter than other areas in the county. This map layer illustrates average albedo values for Fairfax County.  Lighter blues indicate lighter colors, which means higher albedo and more reflectivity. Darker blues indicate darker colors, which means lower albedo and more absorption of solar energy. &lt;/SPAN&gt;&lt;/SPAN&gt;&lt;/P&gt;&lt;/DIV&gt;&lt;/DIV&gt;&lt;/DIV&gt;</idAbs>
    <idCredit>NASA DEVELOP LaRC Summer 2021 Urban Team;  Fairfax County OEEC</idCredit>
    <idPurp>Dark colored surfaces such as black asphalt left in the sun get hot. Lighter-colored objects such as white roofs reflect the sun and so do not get as hot. This is called "albedo." On a large scale, albedo contributes to the "urban heat island effect," where areas with many parking lots, roads, and dense, dark-colored buildings are significantly hotter than other areas in the county. This map layer illustrates average albedo values for Fairfax County.</idPurp>
    <searchKeys>
      <keyword>OEEC</keyword>
      <keyword>Fairfax County</keyword>
      <keyword>Virginia</keyword>
      <keyword>Resilient Fairfax</keyword>
    </searchKeys>
    <idCitation>
      <resTitle>AlbedoAverages</resTitle>
      <presForm>
        <PresFormCd Sync="TRUE" value="005"/>
      </presForm>
    </idCitation>
    <envirDesc Sync="TRUE"> Version 6.2 (Build 9200) ; Esri ArcGIS 10.8.1.14362</envirDesc>
    <dataLang>
      <languageCode Sync="TRUE" value="eng"/>
      <countryCode Sync="TRUE" value="USA"/>
    </dataLang>
    <spatRpType>
      <SpatRepTypCd Sync="TRUE" value="002"/>
    </spatRpType>
    <dataExt>
      <geoEle>
        <GeoBndBox esriExtentType="search">
          <exTypeCode Sync="TRUE">1</exTypeCode>
          <westBL Sync="TRUE">-77.540483</westBL>
          <eastBL Sync="TRUE">-77.034656</eastBL>
          <northBL Sync="TRUE">39.059694</northBL>
          <southBL Sync="TRUE">38.601650</southBL>
        </GeoBndBox>
      </geoEle>
    </dataExt>
    <resConst>
      <Consts>
        <useLimit/>
      </Consts>
    </resConst>
  </dataIdInfo>
  <mdHrLv>
    <ScopeCd value="005"/>
  </mdHrLv>
  <mdDateSt Sync="TRUE">20211007</mdDateSt>
  <mdLang>
    <languageCode Sync="TRUE" value="eng"/>
    <countryCode Sync="TRUE" value="USA"/>
  </mdLang>
  <distInfo>
    <distFormat>
      <formatName Sync="TRUE">Raster Dataset</formatName>
    </distFormat>
  </distInfo>
  <mdHrLvName Sync="TRUE">dataset</mdHrLvName>
  <refSysInfo>
    <RefSystem>
      <refSysID>
        <identCode Sync="TRUE" code="6593"/>
        <idCodeSpace Sync="TRUE">EPSG</idCodeSpace>
        <idVersion Sync="TRUE">8.9.3(10.3.1)</idVersion>
      </refSysID>
    </RefSystem>
  </refSysInfo>
  <spatRepInfo>
    <Georect>
      <cellGeo>
        <CellGeoCd Sync="TRUE" value="002"/>
      </cellGeo>
      <numDims Sync="TRUE">2</numDims>
      <tranParaAv Sync="TRUE">1</tranParaAv>
      <chkPtAv Sync="TRUE">0</chkPtAv>
      <cornerPts>
        <pos Sync="TRUE">11757101.691456 6905457.285282</pos>
      </cornerPts>
      <cornerPts>
        <pos Sync="TRUE">11757101.691456 7070417.585282</pos>
      </cornerPts>
      <cornerPts>
        <pos Sync="TRUE">11899030.541456 7070417.585282</pos>
      </cornerPts>
      <cornerPts>
        <pos Sync="TRUE">11899030.541456 6905457.285282</pos>
      </cornerPts>
      <centerPt>
        <pos Sync="TRUE">11828066.116456 6987937.435282</pos>
      </centerPt>
      <axisDimension type="002">
        <dimSize Sync="TRUE">1442</dimSize>
        <dimResol>
          <value Sync="TRUE" uom="ftUS">98.425000</value>
        </dimResol>
      </axisDimension>
      <axisDimension type="001">
        <dimSize Sync="TRUE">1676</dimSize>
        <dimResol>
          <value Sync="TRUE" uom="ftUS">98.425000</value>
        </dimResol>
      </axisDimension>
      <ptInPixel>
        <PixOrientCd Sync="TRUE" value="001"/>
      </ptInPixel>
    </Georect>
  </spatRepInfo>
  <contInfo>
    <ImgDesc>
      <contentTyp>
        <ContentTypCd Sync="TRUE" value="001"/>
      </contentTyp>
      <covDim>
        <Band>
          <dimDescrp Sync="TRUE">Band_1</dimDescrp>
          <maxVal Sync="TRUE">0.607115</maxVal>
          <minVal Sync="TRUE">0.129930</minVal>
          <bitsPerVal Sync="TRUE">32</bitsPerVal>
          <valUnit>
            <UOM type="length"/>
          </valUnit>
        </Band>
      </covDim>
    </ImgDesc>
  </contInfo>
</metadata>
