{ "currentVersion": 11.4, "serviceDescription": "
Methodology and Additional Source Info: <\/span><\/span>This data was measured by the National Aeronautics and Space Administration (NASA)'s Landsat 8 satellite's dataset acquired from USGS Earth Explorer. The data was compiled and mapped for Fairfax County through a partnership between the Fairfax County Office of Environmental and Energy Coordination (OEEC) and the NASA DEVELOP program as part of the \"Resilient Fairfax\" Climate Adaptation and Resilience Plan process.<\/span><\/span><\/p> Description: <\/span><\/span>Dark colored surfaces such as black asphalt left in the sun get hot. Lighter-colored objects such as white roofs reflect the sun and so do not get as hot. This is called \"albedo.\" On a large scale, albedo contributes to the \"urban heat island effect,\" where areas with many parking lots, roads, and dense, dark-colored buildings are significantly hotter than other areas in the county. This map layer illustrates average albedo values for Fairfax County. Lighter blues indicate lighter colors, which means higher albedo and more reflectivity. Darker blues indicate darker colors, which means lower albedo and more absorption of solar energy. <\/span><\/span><\/p><\/div><\/div><\/div>",
"name": "ResilientFairfax/AlbedoAverages",
"description": " Methodology and Additional Source Info: <\/span><\/span>This data was measured by the National Aeronautics and Space Administration (NASA)'s Landsat 8 satellite's dataset acquired from USGS Earth Explorer. The data was compiled and mapped for Fairfax County through a partnership between the Fairfax County Office of Environmental and Energy Coordination (OEEC) and the NASA DEVELOP program as part of the \"Resilient Fairfax\" Climate Adaptation and Resilience Plan process.<\/span><\/span><\/p> Description: <\/span><\/span>Dark colored surfaces such as black asphalt left in the sun get hot. Lighter-colored objects such as white roofs reflect the sun and so do not get as hot. This is called \"albedo.\" On a large scale, albedo contributes to the \"urban heat island effect,\" where areas with many parking lots, roads, and dense, dark-colored buildings are significantly hotter than other areas in the county. This map layer illustrates average albedo values for Fairfax County. Lighter blues indicate lighter colors, which means higher albedo and more reflectivity. Darker blues indicate darker colors, which means lower albedo and more absorption of solar energy. <\/span><\/span><\/p><\/div><\/div><\/div>",
"extent": {
"xmin": 1.1757101691456296E7,
"ymin": 6905457.285282459,
"xmax": 1.1899030541456295E7,
"ymax": 7070417.585282459,
"spatialReference": {
"wkid": 103176,
"latestWkid": 6593
}
},
"initialExtent": {
"xmin": 1.1757101691456296E7,
"ymin": 6905457.285282459,
"xmax": 1.1899030541456295E7,
"ymax": 7070417.585282459,
"spatialReference": {
"wkid": 103176,
"latestWkid": 6593
}
},
"fullExtent": {
"xmin": 1.1757101691456296E7,
"ymin": 6905457.285282459,
"xmax": 1.1899030541456295E7,
"ymax": 7070417.585282459,
"spatialReference": {
"wkid": 103176,
"latestWkid": 6593
}
},
"sortableFields": "",
"bandCount": 1,
"pixelType": "F32",
"minValues": [
0.12992995977402
],
"maxValues": [
0.60711491107941
],
"meanValues": [
0.26652197456678
],
"stdvValues": [
0.029531998334155
],
"hasMultidimensions": false,
"pixelSizeX": 98.42499999999974,
"pixelSizeY": 98.42499999999988,
"meanPixelSize": 29.999999999999947,
"datasetFormat": "TIFF",
"uncompressedSize": 9667168,
"blockWidth": 128,
"blockHeight": 128,
"compressionType": "None",
"bandNames": [
"Band_1"
],
"allowCopy": true,
"allowAnalysis": true,
"itemAccess": false,
"inspectionCapabilities": "",
"noDataValue": -3.4028234663852886E38,
"noDataValues": [
-3.4028234663852886E38
],
"minPixelSize": 0,
"maxPixelSize": 0,
"copyrightText": "NASA DEVELOP LaRC Summer 2021 Urban Team; Fairfax County OEEC",
"serviceDataType": "esriImageServiceDataTypeGeneric",
"serviceSourceType": "esriImageServiceSourceTypeDataset",
"objectIdField": "",
"fields": [],
"capabilities": "Mensuration,Image,Metadata",
"defaultMosaicMethod": "Center",
"allowedMosaicMethods": "",
"sortField": "",
"sortValue": null,
"sortAscending": true,
"mosaicOperator": "First",
"defaultCompressionQuality": 75,
"defaultResamplingMethod": "Bilinear",
"maxImageHeight": 4100,
"maxImageWidth": 15000,
"allowRasterFunction": true,
"rasterFunctionInfos": [
{
"name": "None",
"description": "",
"help": ""
}
],
"rasterTypeInfos": [
{
"name": "Raster Dataset",
"description": "Supports all ArcGIS Raster Datasets",
"help": ""
}
],
"mensurationCapabilities": "Basic",
"hasHistograms": true,
"hasColormap": false,
"hasRasterAttributeTable": false,
"minScale": 0,
"maxScale": 0,
"exportTilesAllowed": false,
"supportsStatistics": false,
"supportsAdvancedQueries": false,
"editFieldsInfo": null,
"ownershipBasedAccessControlForRasters": null,
"allowComputeTiePoints": false,
"useStandardizedQueries": true,
"advancedQueryCapabilities": {
"useStandardizedQueries": true,
"supportsStatistics": false,
"supportsOrderBy": false,
"supportsDistinct": false,
"supportsPagination": false
},
"spatialReference": {
"wkid": 103176,
"latestWkid": 6593
},
"resampling": false
}