<?xml version="1.0" encoding="UTF-8" standalone="no"?>
<metadata xml:lang="en">
  <Esri>
    <CreaDate>20210929</CreaDate>
    <CreaTime>07121300</CreaTime>
    <ArcGISFormat>1.0</ArcGISFormat>
    <SyncOnce>FALSE</SyncOnce>
    <DataProperties>
      <itemProps>
        <itemLocation>
          <linkage Sync="TRUE">file://\\ffx\ffxdfs\apps\GIS\raster\ResilientFairfax\AreasAbove100F1.tif</linkage>
          <protocol Sync="TRUE">Local Area Network</protocol>
        </itemLocation>
        <itemName Sync="TRUE">AreasAbove100F1.tif</itemName>
        <imsContentType Sync="TRUE">002</imsContentType>
        <nativeExtBox>
          <westBL Sync="TRUE">11753628.732155</westBL>
          <eastBL Sync="TRUE">11904415.832155</eastBL>
          <southBL Sync="TRUE">6901651.246558</southBL>
          <northBL Sync="TRUE">7074387.121558</northBL>
          <exTypeCode Sync="TRUE">1</exTypeCode>
        </nativeExtBox>
      </itemProps>
      <copyHistory>
        <copy date="20210929" dest="\\ffx\ffxdfs\apps\GIS\raster\ResilientFairfax\AreasAbove100F1.tif" source="G:\projects\oeec\Resilient Fairfax\For Greg\AreasAbove100F1.tif" time="07121300"/>
      </copyHistory>
      <lineage>
        <Process Date="20210929" Name="" Time="071213" ToolSource="c:\program files\arcgis\pro\Resources\ArcToolbox\Toolboxes\Data Management Tools.tbx\Copy" export="">Copy "G:\projects\oeec\Resilient Fairfax\For Greg\AreasAbove100F1.tif" \\ffx\ffxdfs\apps\GIS\raster\ResilientFairfax\AreasAbove100F1.tif "Raster Dataset" #</Process>
      </lineage>
      <coordRef>
        <type Sync="TRUE">Projected</type>
        <geogcsn Sync="TRUE">GCS_NAD_1983_2011</geogcsn>
        <csUnits Sync="TRUE">Linear Unit: Foot_US (0.304801)</csUnits>
        <projcsn Sync="TRUE">NAD_1983_2011_StatePlane_Virginia_North_FIPS_4501_Ft_US</projcsn>
        <peXml Sync="TRUE">&lt;ProjectedCoordinateSystem xsi:type='typens:ProjectedCoordinateSystem' xmlns:xsi='http://www.w3.org/2001/XMLSchema-instance' xmlns:xs='http://www.w3.org/2001/XMLSchema' xmlns:typens='http://www.esri.com/schemas/ArcGIS/10.8'&gt;&lt;WKT&gt;PROJCS[&amp;quot;NAD_1983_2011_StatePlane_Virginia_North_FIPS_4501_Ft_US&amp;quot;,GEOGCS[&amp;quot;GCS_NAD_1983_2011&amp;quot;,DATUM[&amp;quot;D_NAD_1983_2011&amp;quot;,SPHEROID[&amp;quot;GRS_1980&amp;quot;,6378137.0,298.257222101]],PRIMEM[&amp;quot;Greenwich&amp;quot;,0.0],UNIT[&amp;quot;Degree&amp;quot;,0.0174532925199433]],PROJECTION[&amp;quot;Lambert_Conformal_Conic&amp;quot;],PARAMETER[&amp;quot;False_Easting&amp;quot;,11482916.66666666],PARAMETER[&amp;quot;False_Northing&amp;quot;,6561666.666666666],PARAMETER[&amp;quot;Central_Meridian&amp;quot;,-78.5],PARAMETER[&amp;quot;Standard_Parallel_1&amp;quot;,38.03333333333333],PARAMETER[&amp;quot;Standard_Parallel_2&amp;quot;,39.2],PARAMETER[&amp;quot;Latitude_Of_Origin&amp;quot;,37.66666666666666],UNIT[&amp;quot;Foot_US&amp;quot;,0.3048006096012192],AUTHORITY[&amp;quot;EPSG&amp;quot;,6593]]&lt;/WKT&gt;&lt;XOrigin&gt;-110512500&lt;/XOrigin&gt;&lt;YOrigin&gt;-88858000&lt;/YOrigin&gt;&lt;XYScale&gt;36916142.964165002&lt;/XYScale&gt;&lt;ZOrigin&gt;-100000&lt;/ZOrigin&gt;&lt;ZScale&gt;10000&lt;/ZScale&gt;&lt;MOrigin&gt;-100000&lt;/MOrigin&gt;&lt;MScale&gt;10000&lt;/MScale&gt;&lt;XYTolerance&gt;0.0032808333333333331&lt;/XYTolerance&gt;&lt;ZTolerance&gt;0.001&lt;/ZTolerance&gt;&lt;MTolerance&gt;0.001&lt;/MTolerance&gt;&lt;HighPrecision&gt;true&lt;/HighPrecision&gt;&lt;WKID&gt;103176&lt;/WKID&gt;&lt;LatestWKID&gt;6593&lt;/LatestWKID&gt;&lt;/ProjectedCoordinateSystem&gt;</peXml>
      </coordRef>
      <RasterProperties>
        <General>
          <PixelDepth Sync="TRUE">32</PixelDepth>
          <HasColormap Sync="TRUE">FALSE</HasColormap>
          <CompressionType Sync="TRUE">None</CompressionType>
          <NumBands Sync="TRUE">1</NumBands>
          <Format Sync="TRUE">TIFF</Format>
          <HasPyramids Sync="TRUE">TRUE</HasPyramids>
          <SourceType Sync="TRUE">continuous</SourceType>
          <PixelType Sync="TRUE">floating point</PixelType>
          <NoDataValue Sync="TRUE">-3.4028231e+38</NoDataValue>
        </General>
      </RasterProperties>
    </DataProperties>
    <scaleRange>
      <minScale>150000000</minScale>
      <maxScale>5000</maxScale>
    </scaleRange>
    <ArcGISProfile>ItemDescription</ArcGISProfile>
    <SyncDate>20211007</SyncDate>
    <SyncTime>07243200</SyncTime>
    <ModDate>20211007</ModDate>
    <ModTime>07243200</ModTime>
  </Esri>
  <dataIdInfo>
    <idPurp>This data was measured by the National Aeronautics and Space Administration (NASA)'s Landsat 8 satellite's earth observations, measured from 2013-2020 during the summer months (June, July, and August).</idPurp>
    <idAbs>&lt;DIV STYLE="text-align:Left;"&gt;&lt;DIV&gt;&lt;DIV&gt;&lt;P&gt;&lt;SPAN STYLE="font-weight:bold;"&gt;&lt;SPAN&gt;Methodology and Additional Source Info: &lt;/SPAN&gt;&lt;/SPAN&gt;&lt;SPAN&gt;&lt;SPAN&gt;This data was measured by the National Aeronautics and Space Administration (NASA)'s Landsat 8 satellite's earth observations, measured from 2013-2020 during the summer months (June, July, and August). The data was compiled and mapped for Fairfax County through a partnership between the Fairfax County Office of Environmental and Energy Coordination (OEEC) and the NASA DEVELOP program as part of the "Resilient Fairfax" Climate Adaptation and Resilience Plan process.&lt;/SPAN&gt;&lt;/SPAN&gt;&lt;SPAN /&gt;&lt;SPAN STYLE="font-weight:bold;"&gt;&lt;SPAN&gt;Description: &lt;/SPAN&gt;&lt;/SPAN&gt;&lt;SPAN&gt;&lt;SPAN&gt;This map layer shows the areas within Fairfax County that were recorded as hotter than 100 degrees Fahrenheit on average during the summer months (June, July, August) for the years 2013- 2020. The areas with temperatures recorded as above 100F are shown in red, with darker reds indicating higher temperatures. This layer differs from the "Daytime Average Summer Temperature" layer because this layer includes only those areas that were hotter than 100 degrees F.  These areas are known as "urban heat islands." The "urban heat island effect" happens because surfaces like parking lots, roads, dense buildings, and other infrastructure absorb and retain heat. Because of the "urban heat island effect," real temperatures within these hot spots on any given day are often much hotter than other areas within the county.  &lt;/SPAN&gt;&lt;/SPAN&gt;&lt;/P&gt;&lt;/DIV&gt;&lt;/DIV&gt;&lt;/DIV&gt;</idAbs>
    <idCitation>
      <resTitle>AreasAbove100F</resTitle>
      <presForm>
        <PresFormCd Sync="TRUE" value="005"/>
      </presForm>
    </idCitation>
    <searchKeys>
      <keyword>OEEC</keyword>
      <keyword>Fairfax County</keyword>
      <keyword>Virginia</keyword>
      <keyword>Resilient Fairfax</keyword>
    </searchKeys>
    <idCredit>NASA DEVELOP LaRC Summer 2021 Urban Team;  Fairfax County OEEC</idCredit>
    <envirDesc Sync="TRUE"> Version 6.2 (Build 9200) ; Esri ArcGIS 10.8.1.14362</envirDesc>
    <dataLang>
      <languageCode Sync="TRUE" value="eng"/>
      <countryCode Sync="TRUE" value="USA"/>
    </dataLang>
    <spatRpType>
      <SpatRepTypCd Sync="TRUE" value="002"/>
    </spatRpType>
    <dataExt>
      <geoEle>
        <GeoBndBox esriExtentType="search">
          <exTypeCode Sync="TRUE">1</exTypeCode>
          <westBL Sync="TRUE">-77.552773</westBL>
          <eastBL Sync="TRUE">-77.015469</eastBL>
          <northBL Sync="TRUE">39.070692</northBL>
          <southBL Sync="TRUE">38.590964</southBL>
        </GeoBndBox>
      </geoEle>
    </dataExt>
    <resConst>
      <Consts>
        <useLimit/>
      </Consts>
    </resConst>
  </dataIdInfo>
  <mdHrLv>
    <ScopeCd value="005"/>
  </mdHrLv>
  <mdDateSt Sync="TRUE">20211007</mdDateSt>
  <mdLang>
    <languageCode Sync="TRUE" value="eng"/>
    <countryCode Sync="TRUE" value="USA"/>
  </mdLang>
  <distInfo>
    <distFormat>
      <formatName Sync="TRUE">Raster Dataset</formatName>
    </distFormat>
  </distInfo>
  <mdHrLvName Sync="TRUE">dataset</mdHrLvName>
  <refSysInfo>
    <RefSystem>
      <refSysID>
        <identCode Sync="TRUE" code="6593"/>
        <idCodeSpace Sync="TRUE">EPSG</idCodeSpace>
        <idVersion Sync="TRUE">8.9.3(10.3.1)</idVersion>
      </refSysID>
    </RefSystem>
  </refSysInfo>
  <spatRepInfo>
    <Georect>
      <cellGeo>
        <CellGeoCd Sync="TRUE" value="002"/>
      </cellGeo>
      <numDims Sync="TRUE">2</numDims>
      <tranParaAv Sync="TRUE">1</tranParaAv>
      <chkPtAv Sync="TRUE">0</chkPtAv>
      <cornerPts>
        <pos Sync="TRUE">11753628.732155 6901651.246558</pos>
      </cornerPts>
      <cornerPts>
        <pos Sync="TRUE">11753628.732155 7074387.121558</pos>
      </cornerPts>
      <cornerPts>
        <pos Sync="TRUE">11904415.832155 7074387.121558</pos>
      </cornerPts>
      <cornerPts>
        <pos Sync="TRUE">11904415.832155 6901651.246558</pos>
      </cornerPts>
      <centerPt>
        <pos Sync="TRUE">11829022.282155 6988019.184058</pos>
      </centerPt>
      <axisDimension type="002">
        <dimSize Sync="TRUE">1532</dimSize>
        <dimResol>
          <value Sync="TRUE" uom="ftUS">98.425000</value>
        </dimResol>
      </axisDimension>
      <axisDimension type="001">
        <dimSize Sync="TRUE">1755</dimSize>
        <dimResol>
          <value Sync="TRUE" uom="ftUS">98.425000</value>
        </dimResol>
      </axisDimension>
      <ptInPixel>
        <PixOrientCd Sync="TRUE" value="001"/>
      </ptInPixel>
    </Georect>
  </spatRepInfo>
  <contInfo>
    <ImgDesc>
      <contentTyp>
        <ContentTypCd Sync="TRUE" value="001"/>
      </contentTyp>
      <covDim>
        <Band>
          <dimDescrp Sync="TRUE">Band_1</dimDescrp>
          <maxVal Sync="TRUE">125.739090</maxVal>
          <minVal Sync="TRUE">100.000000</minVal>
          <bitsPerVal Sync="TRUE">32</bitsPerVal>
          <valUnit>
            <UOM type="length"/>
          </valUnit>
        </Band>
      </covDim>
    </ImgDesc>
  </contInfo>
</metadata>
