{ "currentVersion": 11.4, "serviceDescription": "
Methodology and Additional Source Info: <\/span><\/span>This data was measured by the National Aeronautics and Space Administration (NASA)'s Landsat 8 satellite's earth observations, measured from 2013-2020 during the summer months (June, July, and August). The data was compiled and mapped for Fairfax County through a partnership between the Fairfax County Office of Environmental and Energy Coordination (OEEC) and the NASA DEVELOP program as part of the \"Resilient Fairfax\" Climate Adaptation and Resilience Plan process.<\/span><\/span>Description: <\/span><\/span>This map layer shows the areas within Fairfax County that were recorded as hotter than 100 degrees Fahrenheit on average during the summer months (June, July, August) for the years 2013- 2020. The areas with temperatures recorded as above 100F are shown in red, with darker reds indicating higher temperatures. This layer differs from the \"Daytime Average Summer Temperature\" layer because this layer includes only those areas that were hotter than 100 degrees F. These areas are known as \"urban heat islands.\" The \"urban heat island effect\" happens because surfaces like parking lots, roads, dense buildings, and other infrastructure absorb and retain heat. Because of the \"urban heat island effect,\" real temperatures within these hot spots on any given day are often much hotter than other areas within the county. <\/span><\/span><\/p><\/div><\/div><\/div>",
"name": "ResilientFairfax/AreasAbove100F",
"description": " Methodology and Additional Source Info: <\/span><\/span>This data was measured by the National Aeronautics and Space Administration (NASA)'s Landsat 8 satellite's earth observations, measured from 2013-2020 during the summer months (June, July, and August). The data was compiled and mapped for Fairfax County through a partnership between the Fairfax County Office of Environmental and Energy Coordination (OEEC) and the NASA DEVELOP program as part of the \"Resilient Fairfax\" Climate Adaptation and Resilience Plan process.<\/span><\/span>Description: <\/span><\/span>This map layer shows the areas within Fairfax County that were recorded as hotter than 100 degrees Fahrenheit on average during the summer months (June, July, August) for the years 2013- 2020. The areas with temperatures recorded as above 100F are shown in red, with darker reds indicating higher temperatures. This layer differs from the \"Daytime Average Summer Temperature\" layer because this layer includes only those areas that were hotter than 100 degrees F. These areas are known as \"urban heat islands.\" The \"urban heat island effect\" happens because surfaces like parking lots, roads, dense buildings, and other infrastructure absorb and retain heat. Because of the \"urban heat island effect,\" real temperatures within these hot spots on any given day are often much hotter than other areas within the county. <\/span><\/span><\/p><\/div><\/div><\/div>",
"extent": {
"xmin": 1.1753628732155152E7,
"ymin": 6901651.246557512,
"xmax": 1.1904415832155153E7,
"ymax": 7074387.121557513,
"spatialReference": {
"wkid": 103176,
"latestWkid": 6593
}
},
"initialExtent": {
"xmin": 1.1753628732155152E7,
"ymin": 6901651.246557512,
"xmax": 1.1904415832155153E7,
"ymax": 7074387.121557513,
"spatialReference": {
"wkid": 103176,
"latestWkid": 6593
}
},
"fullExtent": {
"xmin": 1.1753628732155152E7,
"ymin": 6901651.246557512,
"xmax": 1.1904415832155153E7,
"ymax": 7074387.121557513,
"spatialReference": {
"wkid": 103176,
"latestWkid": 6593
}
},
"sortableFields": "",
"bandCount": 1,
"pixelType": "F32",
"minValues": [
100
],
"maxValues": [
125.73908996582
],
"meanValues": [
103.68852014185
],
"stdvValues": [
3.0330486159077
],
"hasMultidimensions": false,
"pixelSizeX": 98.42500000000098,
"pixelSizeY": 98.42500000000054,
"meanPixelSize": 30.00000000000023,
"datasetFormat": "TIFF",
"uncompressedSize": 10748512,
"blockWidth": 128,
"blockHeight": 128,
"compressionType": "None",
"bandNames": [
"Band_1"
],
"allowCopy": true,
"allowAnalysis": true,
"itemAccess": false,
"inspectionCapabilities": "",
"noDataValue": -3.4028230607370965E38,
"noDataValues": [
-3.4028230607370965E38
],
"minPixelSize": 0,
"maxPixelSize": 0,
"copyrightText": "NASA DEVELOP LaRC Summer 2021 Urban Team; Fairfax County OEEC",
"serviceDataType": "esriImageServiceDataTypeGeneric",
"serviceSourceType": "esriImageServiceSourceTypeDataset",
"objectIdField": "",
"fields": [],
"capabilities": "Mensuration,Image,Metadata",
"defaultMosaicMethod": "Center",
"allowedMosaicMethods": "",
"sortField": "",
"sortValue": null,
"sortAscending": true,
"mosaicOperator": "First",
"defaultCompressionQuality": 75,
"defaultResamplingMethod": "Bilinear",
"maxImageHeight": 4100,
"maxImageWidth": 15000,
"allowRasterFunction": true,
"rasterFunctionInfos": [
{
"name": "None",
"description": "",
"help": ""
}
],
"rasterTypeInfos": [
{
"name": "Raster Dataset",
"description": "Supports all ArcGIS Raster Datasets",
"help": ""
}
],
"mensurationCapabilities": "Basic",
"hasHistograms": true,
"hasColormap": false,
"hasRasterAttributeTable": false,
"minScale": 0,
"maxScale": 0,
"exportTilesAllowed": false,
"supportsStatistics": false,
"supportsAdvancedQueries": false,
"editFieldsInfo": null,
"ownershipBasedAccessControlForRasters": null,
"allowComputeTiePoints": false,
"useStandardizedQueries": true,
"advancedQueryCapabilities": {
"useStandardizedQueries": true,
"supportsStatistics": false,
"supportsOrderBy": false,
"supportsDistinct": false,
"supportsPagination": false
},
"spatialReference": {
"wkid": 103176,
"latestWkid": 6593
},
"resampling": false
}