<?xml version="1.0" encoding="UTF-8" standalone="no"?>
<metadata xml:lang="en">
  <Esri>
    <CreaDate>20210927</CreaDate>
    <CreaTime>15335200</CreaTime>
    <ArcGISFormat>1.0</ArcGISFormat>
    <SyncOnce>FALSE</SyncOnce>
    <DataProperties>
      <itemProps>
        <itemName Sync="TRUE">AverageCoolingCapacityIndex.tif</itemName>
        <itemLocation>
          <linkage Sync="TRUE">file://\\ffx\ffxdfs\apps\GIS\raster\ResilientFairfax\AverageCoolingCapacityIndex.tif</linkage>
          <protocol Sync="TRUE">Local Area Network</protocol>
        </itemLocation>
        <imsContentType Sync="TRUE">002</imsContentType>
        <nativeExtBox>
          <westBL Sync="TRUE">11663080.020064</westBL>
          <eastBL Sync="TRUE">12005008.470064</eastBL>
          <southBL Sync="TRUE">6818506.955252</southBL>
          <northBL Sync="TRUE">7157876.355252</northBL>
          <exTypeCode Sync="TRUE">1</exTypeCode>
        </nativeExtBox>
      </itemProps>
      <coordRef>
        <type Sync="TRUE">Projected</type>
        <geogcsn Sync="TRUE">GCS_NAD_1983_2011</geogcsn>
        <csUnits Sync="TRUE">Linear Unit: Foot_US (0.304801)</csUnits>
        <projcsn Sync="TRUE">NAD_1983_2011_StatePlane_Virginia_North_FIPS_4501_Ft_US</projcsn>
        <peXml Sync="TRUE">&lt;ProjectedCoordinateSystem xsi:type='typens:ProjectedCoordinateSystem' xmlns:xsi='http://www.w3.org/2001/XMLSchema-instance' xmlns:xs='http://www.w3.org/2001/XMLSchema' xmlns:typens='http://www.esri.com/schemas/ArcGIS/10.8'&gt;&lt;WKT&gt;PROJCS[&amp;quot;NAD_1983_2011_StatePlane_Virginia_North_FIPS_4501_Ft_US&amp;quot;,GEOGCS[&amp;quot;GCS_NAD_1983_2011&amp;quot;,DATUM[&amp;quot;D_NAD_1983_2011&amp;quot;,SPHEROID[&amp;quot;GRS_1980&amp;quot;,6378137.0,298.257222101]],PRIMEM[&amp;quot;Greenwich&amp;quot;,0.0],UNIT[&amp;quot;Degree&amp;quot;,0.0174532925199433]],PROJECTION[&amp;quot;Lambert_Conformal_Conic&amp;quot;],PARAMETER[&amp;quot;False_Easting&amp;quot;,11482916.66666666],PARAMETER[&amp;quot;False_Northing&amp;quot;,6561666.666666666],PARAMETER[&amp;quot;Central_Meridian&amp;quot;,-78.5],PARAMETER[&amp;quot;Standard_Parallel_1&amp;quot;,38.03333333333333],PARAMETER[&amp;quot;Standard_Parallel_2&amp;quot;,39.2],PARAMETER[&amp;quot;Latitude_Of_Origin&amp;quot;,37.66666666666666],UNIT[&amp;quot;Foot_US&amp;quot;,0.3048006096012192],AUTHORITY[&amp;quot;EPSG&amp;quot;,6593]]&lt;/WKT&gt;&lt;XOrigin&gt;-110512500&lt;/XOrigin&gt;&lt;YOrigin&gt;-88858000&lt;/YOrigin&gt;&lt;XYScale&gt;36916142.964165002&lt;/XYScale&gt;&lt;ZOrigin&gt;-100000&lt;/ZOrigin&gt;&lt;ZScale&gt;10000&lt;/ZScale&gt;&lt;MOrigin&gt;-100000&lt;/MOrigin&gt;&lt;MScale&gt;10000&lt;/MScale&gt;&lt;XYTolerance&gt;0.0032808333333333331&lt;/XYTolerance&gt;&lt;ZTolerance&gt;0.001&lt;/ZTolerance&gt;&lt;MTolerance&gt;0.001&lt;/MTolerance&gt;&lt;HighPrecision&gt;true&lt;/HighPrecision&gt;&lt;WKID&gt;103176&lt;/WKID&gt;&lt;LatestWKID&gt;6593&lt;/LatestWKID&gt;&lt;/ProjectedCoordinateSystem&gt;</peXml>
      </coordRef>
      <RasterProperties>
        <General>
          <PixelDepth Sync="TRUE">32</PixelDepth>
          <HasColormap Sync="TRUE">FALSE</HasColormap>
          <CompressionType Sync="TRUE">None</CompressionType>
          <NumBands Sync="TRUE">1</NumBands>
          <Format Sync="TRUE">TIFF</Format>
          <HasPyramids Sync="TRUE">TRUE</HasPyramids>
          <SourceType Sync="TRUE">continuous</SourceType>
          <PixelType Sync="TRUE">floating point</PixelType>
          <NoDataValue Sync="TRUE">-3.4028231e+38</NoDataValue>
        </General>
      </RasterProperties>
      <lineage>
        <Process Date="20210927" Name="" Time="153352" ToolSource="c:\program files\arcgis\pro\Resources\ArcToolbox\toolboxes\Data Management Tools.tbx\ProjectRaster" export="">ProjectRaster Average_CoolingCapacity_Index1.tif \\ffx\ffxdfs\apps\GIS\raster\ResilientFairfax\AverageCoolingCapacityIndex.tif PROJCS["NAD_1983_2011_StatePlane_Virginia_North_FIPS_4501_Ft_US",GEOGCS["GCS_NAD_1983_2011",DATUM["D_NAD_1983_2011",SPHEROID["GRS_1980",6378137.0,298.257222101]],PRIMEM["Greenwich",0.0],UNIT["Degree",0.0174532925199433]],PROJECTION["Lambert_Conformal_Conic"],PARAMETER["False_Easting",11482916.66666666],PARAMETER["False_Northing",6561666.666666666],PARAMETER["Central_Meridian",-78.5],PARAMETER["Standard_Parallel_1",38.03333333333333],PARAMETER["Standard_Parallel_2",39.2],PARAMETER["Latitude_Of_Origin",37.66666666666666],UNIT["Foot_US",0.3048006096012192]] "Nearest neighbor" "98.425 98.425" WGS_1984_(ITRF08)_To_NAD_1983_2011 # PROJCS["WGS_1984_Web_Mercator_Auxiliary_Sphere",GEOGCS["GCS_WGS_1984",DATUM["D_WGS_1984",SPHEROID["WGS_1984",6378137.0,298.257223563]],PRIMEM["Greenwich",0.0],UNIT["Degree",0.0174532925199433]],PROJECTION["Mercator_Auxiliary_Sphere"],PARAMETER["False_Easting",0.0],PARAMETER["False_Northing",0.0],PARAMETER["Central_Meridian",0.0],PARAMETER["Standard_Parallel_1",0.0],PARAMETER["Auxiliary_Sphere_Type",0.0],UNIT["Meter",1.0]] NO_VERTICAL</Process>
      </lineage>
    </DataProperties>
    <SyncDate>20211007</SyncDate>
    <SyncTime>07243600</SyncTime>
    <ModDate>20211007</ModDate>
    <ModTime>07243600</ModTime>
    <scaleRange>
      <minScale>150000000</minScale>
      <maxScale>5000</maxScale>
    </scaleRange>
    <ArcGISProfile>ItemDescription</ArcGISProfile>
  </Esri>
  <dataIdInfo>
    <envirDesc Sync="TRUE"> Version 6.2 (Build 9200) ; Esri ArcGIS 10.8.1.14362</envirDesc>
    <dataLang>
      <languageCode Sync="TRUE" value="eng"/>
      <countryCode Sync="TRUE" value="USA"/>
    </dataLang>
    <idCitation>
      <resTitle Sync="FALSE">AverageCoolingCapacityIndex</resTitle>
      <presForm>
        <PresFormCd Sync="TRUE" value="005"/>
      </presForm>
    </idCitation>
    <spatRpType>
      <SpatRepTypCd Sync="TRUE" value="002"/>
    </spatRpType>
    <dataExt>
      <geoEle>
        <GeoBndBox esriExtentType="search">
          <exTypeCode Sync="TRUE">1</exTypeCode>
          <westBL Sync="TRUE">-77.871584</westBL>
          <eastBL Sync="TRUE">-76.655357</eastBL>
          <northBL Sync="TRUE">39.302055</northBL>
          <southBL Sync="TRUE">38.357733</southBL>
        </GeoBndBox>
      </geoEle>
    </dataExt>
    <idAbs>&lt;DIV STYLE="text-align:Left;"&gt;&lt;DIV&gt;&lt;DIV&gt;&lt;P&gt;&lt;SPAN STYLE="font-weight:bold;"&gt;&lt;SPAN&gt;Methodology and Additional Source Info: &lt;/SPAN&gt;&lt;/SPAN&gt;&lt;SPAN&gt;&lt;SPAN&gt;The data was compiled and mapped for Fairfax County through a partnership between the Fairfax County Office of Environmental and Energy Coordination (OEEC) and the NASA DEVELOP program as part of the "Resilient Fairfax" Climate Adaptation and Resilience Plan process. The average cooling capacity was modeled using the INVEST model, which considers land use (Fairfax County GIS data and NLCD data), albedo (NASA's Landsat8 OLI), evapotranspiration (ISS ECOStress), tree canopy data (Fairfax County Urban Forestry), and LiDAR DSM. &lt;/SPAN&gt;&lt;/SPAN&gt;&lt;SPAN /&gt;&lt;SPAN STYLE="font-weight:bold;"&gt;&lt;SPAN&gt;Description: &lt;/SPAN&gt;&lt;/SPAN&gt;&lt;SPAN&gt;&lt;SPAN&gt;This map layer shows the "cooling capacity" of Farifax County's land surfaces, or how well different land uses are able to mitigate heat. Low or poor heat mitigation means that it is harder to cool the area. For example, asphalt roads, dark-colored roofs, and dense buildings are not able to mitigate heat very well, so those surfaces remain hot for longer.  In contrast, high or good heat mitigation means that it is easier to cool the area. For example, parks, light-colored roofs, and natural open spaces are able to mitgate heat very well, so those areas become cooler more quickly. This map layer, created by NASA Develop, uses the INVEST model to  analyse this heat mitigation index or cooling capacity.  Darker colors indicate higher (better) cooling capacity.  This layer helps to explain certain factors in urban heat island formation in the county, and can help with identification of strategies to mitigate heat.  &lt;/SPAN&gt;&lt;/SPAN&gt;&lt;/P&gt;&lt;/DIV&gt;&lt;/DIV&gt;&lt;/DIV&gt;</idAbs>
    <idCredit>NASA DEVELOP LaRC Summer 2021 Urban Team;  Fairfax County OEEC</idCredit>
    <idPurp>The data was compiled and mapped for Fairfax County through a partnership between the Fairfax County Office of Environmental and Energy Coordination (OEEC) and the NASA DEVELOP program as part of the "Resilient Fairfax" Climate Adaptation and Resilience Plan process. The average cooling capacity was modeled using the INVEST model, which considers land use (Fairfax County GIS data and NLCD data), albedo (NASA's Landsat8 OLI), evapotranspiration (ISS ECOStress), tree canopy data (Fairfax County Urban Forestry), and LiDAR DSM. This map layer shows the "cooling capacity" of Farifax County's land surfaces, or how well different land uses are able to mitigate heat.</idPurp>
    <searchKeys>
      <keyword>OEEC</keyword>
      <keyword>Fairfax County</keyword>
      <keyword>Virginia</keyword>
      <keyword>Resilient Fairfax</keyword>
    </searchKeys>
    <resConst>
      <Consts>
        <useLimit/>
      </Consts>
    </resConst>
  </dataIdInfo>
  <mdLang>
    <languageCode Sync="TRUE" value="eng"/>
    <countryCode Sync="TRUE" value="USA"/>
  </mdLang>
  <mdChar>
    <CharSetCd Sync="TRUE" value="004"/>
  </mdChar>
  <distInfo>
    <distFormat>
      <formatName Sync="TRUE">Raster Dataset</formatName>
    </distFormat>
  </distInfo>
  <mdHrLv>
    <ScopeCd Sync="TRUE" value="005"/>
  </mdHrLv>
  <mdHrLvName Sync="TRUE">dataset</mdHrLvName>
  <refSysInfo>
    <RefSystem>
      <refSysID>
        <identCode Sync="TRUE" code="6593"/>
        <idCodeSpace Sync="TRUE">EPSG</idCodeSpace>
        <idVersion Sync="TRUE">8.9.3(10.3.1)</idVersion>
      </refSysID>
    </RefSystem>
  </refSysInfo>
  <spatRepInfo>
    <Georect>
      <cellGeo>
        <CellGeoCd Sync="TRUE" value="002"/>
      </cellGeo>
      <numDims Sync="TRUE">2</numDims>
      <tranParaAv Sync="TRUE">1</tranParaAv>
      <chkPtAv Sync="TRUE">0</chkPtAv>
      <cornerPts>
        <pos Sync="TRUE">11663080.020064 6818506.955252</pos>
      </cornerPts>
      <cornerPts>
        <pos Sync="TRUE">11663080.020064 7157876.355252</pos>
      </cornerPts>
      <cornerPts>
        <pos Sync="TRUE">12005008.470064 7157876.355252</pos>
      </cornerPts>
      <cornerPts>
        <pos Sync="TRUE">12005008.470064 6818506.955252</pos>
      </cornerPts>
      <centerPt>
        <pos Sync="TRUE">11834044.245064 6988191.655252</pos>
      </centerPt>
      <axisDimension type="002">
        <dimSize Sync="TRUE">3474</dimSize>
        <dimResol>
          <value Sync="TRUE" uom="ftUS">98.425000</value>
        </dimResol>
      </axisDimension>
      <axisDimension type="001">
        <dimSize Sync="TRUE">3448</dimSize>
        <dimResol>
          <value Sync="TRUE" uom="ftUS">98.425000</value>
        </dimResol>
      </axisDimension>
      <ptInPixel>
        <PixOrientCd Sync="TRUE" value="001"/>
      </ptInPixel>
    </Georect>
  </spatRepInfo>
  <contInfo>
    <ImgDesc>
      <contentTyp>
        <ContentTypCd Sync="TRUE" value="001"/>
      </contentTyp>
      <covDim>
        <Band>
          <dimDescrp Sync="TRUE">Band_1</dimDescrp>
          <maxVal Sync="TRUE">0.972962</maxVal>
          <minVal Sync="TRUE">0.000000</minVal>
          <bitsPerVal Sync="TRUE">32</bitsPerVal>
          <valUnit>
            <UOM type="length"/>
          </valUnit>
        </Band>
      </covDim>
    </ImgDesc>
  </contInfo>
  <mdDateSt Sync="TRUE">20211007</mdDateSt>
</metadata>
