{ "currentVersion": 11.4, "serviceDescription": "
Methodology and Additional Source Info: <\/span><\/span>The data was compiled and mapped for Fairfax County through a partnership between the Fairfax County Office of Environmental and Energy Coordination (OEEC) and the NASA DEVELOP program as part of the \"Resilient Fairfax\" Climate Adaptation and Resilience Plan process. The average cooling capacity was modeled using the INVEST model, which considers land use (Fairfax County GIS data and NLCD data), albedo (NASA's Landsat8 OLI), evapotranspiration (ISS ECOStress), tree canopy data (Fairfax County Urban Forestry), and LiDAR DSM. <\/span><\/span>Description: <\/span><\/span>This map layer shows the \"cooling capacity\" of Farifax County's land surfaces, or how well different land uses are able to mitigate heat. Low or poor heat mitigation means that it is harder to cool the area. For example, asphalt roads, dark-colored roofs, and dense buildings are not able to mitigate heat very well, so those surfaces remain hot for longer. In contrast, high or good heat mitigation means that it is easier to cool the area. For example, parks, light-colored roofs, and natural open spaces are able to mitgate heat very well, so those areas become cooler more quickly. This map layer, created by NASA Develop, uses the INVEST model to analyse this heat mitigation index or cooling capacity. Darker colors indicate higher (better) cooling capacity. This layer helps to explain certain factors in urban heat island formation in the county, and can help with identification of strategies to mitigate heat. <\/span><\/span><\/p><\/div><\/div><\/div>",
"name": "ResilientFairfax/AverageCoolingCapacityIndex",
"description": " Methodology and Additional Source Info: <\/span><\/span>The data was compiled and mapped for Fairfax County through a partnership between the Fairfax County Office of Environmental and Energy Coordination (OEEC) and the NASA DEVELOP program as part of the \"Resilient Fairfax\" Climate Adaptation and Resilience Plan process. The average cooling capacity was modeled using the INVEST model, which considers land use (Fairfax County GIS data and NLCD data), albedo (NASA's Landsat8 OLI), evapotranspiration (ISS ECOStress), tree canopy data (Fairfax County Urban Forestry), and LiDAR DSM. <\/span><\/span>Description: <\/span><\/span>This map layer shows the \"cooling capacity\" of Farifax County's land surfaces, or how well different land uses are able to mitigate heat. Low or poor heat mitigation means that it is harder to cool the area. For example, asphalt roads, dark-colored roofs, and dense buildings are not able to mitigate heat very well, so those surfaces remain hot for longer. In contrast, high or good heat mitigation means that it is easier to cool the area. For example, parks, light-colored roofs, and natural open spaces are able to mitgate heat very well, so those areas become cooler more quickly. This map layer, created by NASA Develop, uses the INVEST model to analyse this heat mitigation index or cooling capacity. Darker colors indicate higher (better) cooling capacity. This layer helps to explain certain factors in urban heat island formation in the county, and can help with identification of strategies to mitigate heat. <\/span><\/span><\/p><\/div><\/div><\/div>",
"extent": {
"xmin": 1.1663080020064166E7,
"ymin": 6818506.95525197,
"xmax": 1.2005008470064165E7,
"ymax": 7157876.355251971,
"spatialReference": {
"wkid": 103176,
"latestWkid": 6593
}
},
"initialExtent": {
"xmin": 1.1663080020064166E7,
"ymin": 6818506.95525197,
"xmax": 1.2005008470064165E7,
"ymax": 7157876.355251971,
"spatialReference": {
"wkid": 103176,
"latestWkid": 6593
}
},
"fullExtent": {
"xmin": 1.1663080020064166E7,
"ymin": 6818506.95525197,
"xmax": 1.2005008470064165E7,
"ymax": 7157876.355251971,
"spatialReference": {
"wkid": 103176,
"latestWkid": 6593
}
},
"sortableFields": "",
"bandCount": 1,
"pixelType": "F32",
"minValues": [
0
],
"maxValues": [
0.97296196222305
],
"meanValues": [
0.54695622874662
],
"stdvValues": [
0.24250333274065
],
"hasMultidimensions": false,
"pixelSizeX": 98.42499999999978,
"pixelSizeY": 98.42500000000011,
"meanPixelSize": 29.99999999999999,
"datasetFormat": "TIFF",
"uncompressedSize": 47913408,
"blockWidth": 128,
"blockHeight": 128,
"compressionType": "None",
"bandNames": [
"Band_1"
],
"allowCopy": true,
"allowAnalysis": true,
"itemAccess": false,
"inspectionCapabilities": "",
"noDataValue": -3.4028230607370965E38,
"noDataValues": [
-3.4028230607370965E38
],
"minPixelSize": 0,
"maxPixelSize": 0,
"copyrightText": "NASA DEVELOP LaRC Summer 2021 Urban Team; Fairfax County OEEC",
"serviceDataType": "esriImageServiceDataTypeGeneric",
"serviceSourceType": "esriImageServiceSourceTypeDataset",
"objectIdField": "",
"fields": [],
"capabilities": "Mensuration,Image,Metadata",
"defaultMosaicMethod": "Center",
"allowedMosaicMethods": "",
"sortField": "",
"sortValue": null,
"sortAscending": true,
"mosaicOperator": "First",
"defaultCompressionQuality": 75,
"defaultResamplingMethod": "Bilinear",
"maxImageHeight": 4100,
"maxImageWidth": 15000,
"allowRasterFunction": true,
"rasterFunctionInfos": [
{
"name": "None",
"description": "",
"help": ""
}
],
"rasterTypeInfos": [
{
"name": "Raster Dataset",
"description": "Supports all ArcGIS Raster Datasets",
"help": ""
}
],
"mensurationCapabilities": "Basic",
"hasHistograms": true,
"hasColormap": false,
"hasRasterAttributeTable": false,
"minScale": 0,
"maxScale": 0,
"exportTilesAllowed": false,
"supportsStatistics": false,
"supportsAdvancedQueries": false,
"editFieldsInfo": null,
"ownershipBasedAccessControlForRasters": null,
"allowComputeTiePoints": false,
"useStandardizedQueries": true,
"advancedQueryCapabilities": {
"useStandardizedQueries": true,
"supportsStatistics": false,
"supportsOrderBy": false,
"supportsDistinct": false,
"supportsPagination": false
},
"spatialReference": {
"wkid": 103176,
"latestWkid": 6593
},
"resampling": false
}