{ "currentVersion": 11.4, "serviceDescription": "
Methodology and Additional Source Info:<\/span><\/span> This data was measured by the National Aeronautics and Space Administration (NASA)'s Landsat 8 satellite's earth observations, measured from 2013-2020 during the summer months (June, July, and August). The data was compiled and mapped for Fairfax County through a partnership between the Fairfax County Office of Environmental and Energy Coordination (OEEC) and the NASA DEVELOP program as part of the \"Resilient Fairfax\" Climate Adaptation and Resilience Plan process.<\/span><\/span>Description:<\/span><\/span> All areas of Fairfax County are exposed to extreme heat, and as temperatures continue to rise, this heat exposure is increasing. However, certain areas of the county experience significantly hotter on-the-ground temperatures than other areas. This map layer shows the average surface (on the ground) temperatures for Fairfax County, VA, measured from 2013-2020 during the summer months (June, July and August). The areas shown in light yellow-orange are cooler areas, while the areas shown in dark red are the hottest areas in Fairfax County. The highest surface temperature recorded was 126 degrees.The dark red areas on this map layer are known as \"urban heat islands.\" The \"urban heat island effect\" happens because surfaces like parking lots, roads, dense buildings, and other infrastructure absorb and retain heat. In contrast, areas with ample green space, trees, and light-colored surfaces such as white roofs are much cooler. Because of the \"urban heat island effect,\" real temperatures within these hot spots on any given day are often much hotter than the general weather forecast for that day. For example, if the general temperature in Fairfax County for a particular day is 80 degrees F, the real temperature in the \"urban heat islands\" may be 100 degrees F. As overall temperatures rise, temperatures will continue to be even higher within the urban heat islands. The purpose of this map is to enable Fairfax County residents, staff, and stakeholders, to see the locations of urban heat islands in Fairfax County. When we know the locations of these urban heat islands, we are able to make better plans to address extreme heat. <\/span><\/span><\/p><\/div><\/div><\/div>",
"name": "ResilientFairfax/DaytimeSummerAvgSurfaceTemp",
"description": " Methodology and Additional Source Info:<\/span><\/span> This data was measured by the National Aeronautics and Space Administration (NASA)'s Landsat 8 satellite's earth observations, measured from 2013-2020 during the summer months (June, July, and August). The data was compiled and mapped for Fairfax County through a partnership between the Fairfax County Office of Environmental and Energy Coordination (OEEC) and the NASA DEVELOP program as part of the \"Resilient Fairfax\" Climate Adaptation and Resilience Plan process.<\/span><\/span>Description:<\/span><\/span> All areas of Fairfax County are exposed to extreme heat, and as temperatures continue to rise, this heat exposure is increasing. However, certain areas of the county experience significantly hotter on-the-ground temperatures than other areas. This map layer shows the average surface (on the ground) temperatures for Fairfax County, VA, measured from 2013-2020 during the summer months (June, July and August). The areas shown in light yellow-orange are cooler areas, while the areas shown in dark red are the hottest areas in Fairfax County. The highest surface temperature recorded was 126 degrees.The dark red areas on this map layer are known as \"urban heat islands.\" The \"urban heat island effect\" happens because surfaces like parking lots, roads, dense buildings, and other infrastructure absorb and retain heat. In contrast, areas with ample green space, trees, and light-colored surfaces such as white roofs are much cooler. Because of the \"urban heat island effect,\" real temperatures within these hot spots on any given day are often much hotter than the general weather forecast for that day. For example, if the general temperature in Fairfax County for a particular day is 80 degrees F, the real temperature in the \"urban heat islands\" may be 100 degrees F. As overall temperatures rise, temperatures will continue to be even higher within the urban heat islands. The purpose of this map is to enable Fairfax County residents, staff, and stakeholders, to see the locations of urban heat islands in Fairfax County. When we know the locations of these urban heat islands, we are able to make better plans to address extreme heat. <\/span><\/span><\/p><\/div><\/div><\/div>",
"extent": {
"xmin": 1.1663080020064166E7,
"ymin": 6818506.95525197,
"xmax": 1.2005008470064165E7,
"ymax": 7157876.355251971,
"spatialReference": {
"wkid": 103176,
"latestWkid": 6593
}
},
"initialExtent": {
"xmin": 1.1663080020064166E7,
"ymin": 6818506.95525197,
"xmax": 1.2005008470064165E7,
"ymax": 7157876.355251971,
"spatialReference": {
"wkid": 103176,
"latestWkid": 6593
}
},
"fullExtent": {
"xmin": 1.1663080020064166E7,
"ymin": 6818506.95525197,
"xmax": 1.2005008470064165E7,
"ymax": 7157876.355251971,
"spatialReference": {
"wkid": 103176,
"latestWkid": 6593
}
},
"sortableFields": "",
"bandCount": 1,
"pixelType": "F32",
"minValues": [
52.369998931885
],
"maxValues": [
126.9585723877
],
"meanValues": [
89.150481318749
],
"stdvValues": [
7.375291467671
],
"hasMultidimensions": false,
"pixelSizeX": 98.42499999999978,
"pixelSizeY": 98.42500000000011,
"meanPixelSize": 29.99999999999999,
"datasetFormat": "TIFF",
"uncompressedSize": 47913408,
"blockWidth": 128,
"blockHeight": 128,
"compressionType": "LZW",
"bandNames": [
"Band_1"
],
"allowCopy": true,
"allowAnalysis": true,
"itemAccess": false,
"inspectionCapabilities": "",
"noDataValue": -3.4028230607370965E38,
"noDataValues": [
-3.4028230607370965E38
],
"minPixelSize": 0,
"maxPixelSize": 0,
"copyrightText": "NASA DEVELOP LaRC Summer 2021 Urban Team; Fairfax County OEEC",
"serviceDataType": "esriImageServiceDataTypeGeneric",
"serviceSourceType": "esriImageServiceSourceTypeDataset",
"objectIdField": "",
"fields": [],
"capabilities": "Mensuration,Image,Metadata",
"defaultMosaicMethod": "Center",
"allowedMosaicMethods": "",
"sortField": "",
"sortValue": null,
"sortAscending": true,
"mosaicOperator": "First",
"defaultCompressionQuality": 75,
"defaultResamplingMethod": "Bilinear",
"maxImageHeight": 4100,
"maxImageWidth": 15000,
"allowRasterFunction": true,
"rasterFunctionInfos": [
{
"name": "None",
"description": "",
"help": ""
}
],
"rasterTypeInfos": [
{
"name": "Raster Dataset",
"description": "Supports all ArcGIS Raster Datasets",
"help": ""
}
],
"mensurationCapabilities": "Basic",
"hasHistograms": true,
"hasColormap": false,
"hasRasterAttributeTable": false,
"minScale": 0,
"maxScale": 0,
"exportTilesAllowed": false,
"supportsStatistics": false,
"supportsAdvancedQueries": false,
"editFieldsInfo": null,
"ownershipBasedAccessControlForRasters": null,
"allowComputeTiePoints": false,
"useStandardizedQueries": true,
"advancedQueryCapabilities": {
"useStandardizedQueries": true,
"supportsStatistics": false,
"supportsOrderBy": false,
"supportsDistinct": false,
"supportsPagination": false
},
"spatialReference": {
"wkid": 103176,
"latestWkid": 6593
},
"resampling": false
}