{ "currentVersion": 11.4, "serviceDescription": "
Three Feet of Sea Level Rise with Depth of Water Shown<\/span><\/span><\/p><\/div><\/div><\/div>",
"name": "ResilientFairfax/SeaLevelRise3ft",
"description": " Three Feet of Sea Level Rise with Depth of Water Shown<\/span><\/span><\/p><\/div><\/div><\/div>",
"extent": {
"xmin": 1.175221557282936E7,
"ymin": 6526002.732561618,
"xmax": 1.2169892559647284E7,
"ymax": 7046434.046865132,
"spatialReference": {
"wkid": 103176,
"latestWkid": 6593
}
},
"initialExtent": {
"xmin": 1.175221557282936E7,
"ymin": 6526002.732561618,
"xmax": 1.2169892559647284E7,
"ymax": 7046434.046865132,
"spatialReference": {
"wkid": 103176,
"latestWkid": 6593
}
},
"fullExtent": {
"xmin": 1.175221557282936E7,
"ymin": 6526002.732561618,
"xmax": 1.2169892559647284E7,
"ymax": 7046434.046865132,
"spatialReference": {
"wkid": 103176,
"latestWkid": 6593
}
},
"sortableFields": "",
"bandCount": 1,
"pixelType": "F32",
"minValues": [
2.2711753899785E-7
],
"maxValues": [
2.4444000720978
],
"meanValues": [
1.8905215365795
],
"stdvValues": [
0.50868732547947
],
"hasMultidimensions": false,
"pixelSizeX": 8.797459544999143,
"pixelSizeY": 8.797459544999132,
"meanPixelSize": 2.681471032257802,
"datasetFormat": "TIFF",
"uncompressedSize": 11234197648,
"blockWidth": 128,
"blockHeight": 128,
"compressionType": "LZW",
"bandNames": [
"Band_1"
],
"allowCopy": true,
"allowAnalysis": true,
"itemAccess": false,
"inspectionCapabilities": "",
"noDataValue": -3.4028230607370965E38,
"noDataValues": [
-3.4028230607370965E38
],
"minPixelSize": 0,
"maxPixelSize": 0,
"copyrightText": "NOAA and Fairfax County OEEC",
"serviceDataType": "esriImageServiceDataTypeGeneric",
"serviceSourceType": "esriImageServiceSourceTypeDataset",
"objectIdField": "",
"fields": [],
"capabilities": "Mensuration,Image,Metadata",
"defaultMosaicMethod": "Center",
"allowedMosaicMethods": "",
"sortField": "",
"sortValue": null,
"sortAscending": true,
"mosaicOperator": "First",
"defaultCompressionQuality": 75,
"defaultResamplingMethod": "Bilinear",
"maxImageHeight": 4100,
"maxImageWidth": 15000,
"allowRasterFunction": true,
"rasterFunctionInfos": [
{
"name": "None",
"description": "",
"help": ""
}
],
"rasterTypeInfos": [
{
"name": "Raster Dataset",
"description": "Supports all ArcGIS Raster Datasets",
"help": ""
}
],
"mensurationCapabilities": "Basic",
"hasHistograms": true,
"hasColormap": false,
"hasRasterAttributeTable": false,
"minScale": 0,
"maxScale": 0,
"exportTilesAllowed": false,
"supportsStatistics": false,
"supportsAdvancedQueries": false,
"editFieldsInfo": null,
"ownershipBasedAccessControlForRasters": null,
"allowComputeTiePoints": false,
"useStandardizedQueries": true,
"advancedQueryCapabilities": {
"useStandardizedQueries": true,
"supportsStatistics": false,
"supportsOrderBy": false,
"supportsDistinct": false,
"supportsPagination": false
},
"spatialReference": {
"wkid": 103176,
"latestWkid": 6593
},
"resampling": false
}