View In:
ArcGIS JavaScript
ArcGIS Online Map Viewer
ArcGIS Earth
Service Description: LiDAR surface representing the heights of above ground features derived by subtracting bare earth elevation from digital surface model elevation. Due to the subtraction, ground elevations are set to zero, or nearly zero, and should not be used. Only the heights of above ground features are valid in this layer. Vertical Units are in meters referenced to North American Vertical Datum of 1988 (NAVD88) though a raster function is available to report pixel values in feet. To download LiDAR data, please go to the US Geological Survey's National Map Viewer.
Name: LiDAR/HeightAboveGround
Description: LiDAR surface representing the heights of above ground features derived by subtracting bare earth elevation from digital surface model elevation. Due to the subtraction, ground elevations are set to zero, or nearly zero, and should not be used. Only the heights of above ground features are valid in this layer. Vertical Units are in meters referenced to North American Vertical Datum of 1988 (NAVD88) though a raster function is available to report pixel values in feet. To download LiDAR data, please go to the US Geological Survey's National Map Viewer.
Single Fused Map Cache: false
Extent:
XMin: 279814.0
YMin: 4275180.0
XMax: 323653.0
YMax: 4325758.0
Spatial Reference: 26918
(26918)
VCSWkid(5703)
LatestVCSWkid(5703)
Initial Extent:
XMin: 279814.0
YMin: 4275180.0
XMax: 323653.0
YMax: 4325758.0
Spatial Reference: 26918
(26918)
VCSWkid(5703)
LatestVCSWkid(5703)
Full Extent:
XMin: 279814.0
YMin: 4275180.0
XMax: 323653.0
YMax: 4325758.0
Spatial Reference: 26918
(26918)
VCSWkid(5703)
LatestVCSWkid(5703)
Pixel Size X: 1.0
Pixel Size Y: 1.0
Band Count: 1
Pixel Type: F32
RasterFunction Infos: {"rasterFunctionInfos": [
{
"name": "HeightAGLMetersToFeet",
"description": "A raster function template.",
"help": ""
},
{
"name": "None",
"description": "",
"help": ""
}
]}
Mensuration Capabilities: Basic
Inspection Capabilities:
Has Histograms: true
Has Colormap: false
Has Multi Dimensions : false
Rendering Rule:
Min Scale: 0
Max Scale: 0
Resampling: false
Copyright Text:
Service Data Type: esriImageServiceDataTypeGeneric
Min Values: 0
Max Values: 143.33071899414062
Mean Values: 6.530388722408402
Standard Deviation Values: 8.735338398571264
Object ID Field: OBJECTID
Fields:
-
OBJECTID
(
type: esriFieldTypeOID, alias: OBJECTID
)
-
Shape
(
type: esriFieldTypeGeometry, alias: Shape
)
-
Name
(
type: esriFieldTypeString, alias: Name, length: 200
)
-
MinPS
(
type: esriFieldTypeDouble, alias: MinPS
)
-
MaxPS
(
type: esriFieldTypeDouble, alias: MaxPS
)
-
LowPS
(
type: esriFieldTypeDouble, alias: LowPS
)
-
HighPS
(
type: esriFieldTypeDouble, alias: HighPS
)
-
Category
(
type: esriFieldTypeInteger, alias: Category
,
Coded Values:
[0: Unknown]
,
[1: Primary]
,
[2: Overview]
, ...6 more...
)
-
Tag
(
type: esriFieldTypeString, alias: Tag, length: 100
)
-
GroupName
(
type: esriFieldTypeString, alias: GroupName, length: 100
)
-
ProductName
(
type: esriFieldTypeString, alias: ProductName, length: 100
)
-
CenterX
(
type: esriFieldTypeDouble, alias: CenterX
)
-
CenterY
(
type: esriFieldTypeDouble, alias: CenterY
)
-
ZOrder
(
type: esriFieldTypeInteger, alias: ZOrder
)
-
Shape_Length
(
type: esriFieldTypeDouble, alias: Shape_Length
)
-
Shape_Area
(
type: esriFieldTypeDouble, alias: Shape_Area
)
Default Mosaic Method: Northwest
Allowed Mosaic Methods: NorthWest,Center,LockRaster,ByAttribute,Nadir,Viewpoint,Seamline,None
SortField:
SortValue: null
Mosaic Operator: First
Default Compression Quality: 75
Default Resampling Method: Bilinear
Max Record Count: 1000
Max Image Height: 4100
Max Image Width: 15000
Max Download Image Count: 20
Max Mosaic Image Count: 20
Allow Raster Function: true
Allow Copy: true
Allow Analysis: true
Allow Compute TiePoints: false
Supports Statistics: true
Supports Advanced Queries: true
Use StandardizedQueries: true
Raster Type Infos:
Name: Raster Dataset
Description: Supports all ArcGIS Raster Datasets
Help:
Has Raster Attribute Table: false
Edit Fields Info: null
Ownership Based AccessControl For Rasters: null
Child Resources:
Info
Histograms
Statistics
Key Properties
Legend
Raster Function Infos
Supported Operations:
Export Image
Query
Identify
Measure
Compute Histograms
Compute Statistics Histograms
Get Samples
Compute Class Statistics
Query GPS Info
Find Images
Image to Map
Map to Image
Measure from Image
Image to Map Multiray
Query Boundary
Compute Pixel Location
Compute Angles
Validate
Project