View In:
ArcGIS JavaScript
ArcGIS Online Map Viewer
ArcGIS Earth
Service Description: Test/FairfaxGovernmentCenterFloor1
Name: Test/FairfaxGovernmentCenterFloor1
Description:
Single Fused Map Cache: false
Extent:
XMin: -8611398.401025759
YMin: 4700622.6802493725
XMax: -8611168.409507269
YMax: 4700953.196551034
Spatial Reference: 102100
(3857)
LatestVCSWkid(0)
Initial Extent:
XMin: -8611398.401025759
YMin: 4700622.6802493725
XMax: -8611168.409507269
YMax: 4700953.196551034
Spatial Reference: 102100
(3857)
LatestVCSWkid(0)
Full Extent:
XMin: -8611398.401025759
YMin: 4700622.6802493725
XMax: -8611168.409507269
YMax: 4700953.196551034
Spatial Reference: 102100
(3857)
LatestVCSWkid(0)
Pixel Size X: 0.03959227379755835
Pixel Size Y: 0.03959227379752393
Band Count: 4
Pixel Type: U8
RasterFunction Infos: {"rasterFunctionInfos": [{
"name": "None",
"description": "",
"help": ""
}]}
Mensuration Capabilities: Basic
Has Histograms: true
Has Colormap: false
Has Multi Dimensions : false
Rendering Rule:
Min Scale: 0
Max Scale: 0
Copyright Text:
Service Data Type: esriImageServiceDataTypeGeneric
Min Values: 0, 0, 0, 0
Max Values: 255, 255, 255, 255
Mean Values: 154.28287681748, 153.86337332572, 149.36897071133, 241.58401206995
Standard Deviation Values: 86.430430886557, 87.463146145782, 85.445292839528, 56.930556442655
Object ID Field:
Fields:
None
Default Mosaic Method: Center
Allowed Mosaic Methods:
SortField:
SortValue: null
Mosaic Operator: First
Default Compression Quality: 75
Default Resampling Method: Bilinear
Max Record Count: null
Max Image Height: 4100
Max Image Width: 15000
Max Download Image Count: null
Max Mosaic Image Count: null
Allow Raster Function: true
Allow Copy: true
Allow Analysis: true
Allow Compute TiePoints: false
Supports Statistics: false
Supports Advanced Queries: false
Use StandardizedQueries: true
Raster Type Infos:
Name: Raster Dataset
Description: Supports all ArcGIS Raster Datasets
Help:
Has Raster Attribute Table: false
Edit Fields Info: null
Ownership Based AccessControl For Rasters: null
Child Resources:
Info
Histograms
Statistics
Key Properties
Legend
Raster Function Infos
Supported Operations:
Export Image
Identify
Measure
Compute Histograms
Compute Statistics Histograms
Get Samples
Compute Class Statistics
Query Boundary
Compute Pixel Location
Compute Angles
Validate
Project