View In:
ArcGIS JavaScript
ArcGIS Online Map Viewer
ArcGIS Earth
Service Description: ResilientFairfax/AlbedoAverages
Name: ResilientFairfax/AlbedoAverages
Description:
Single Fused Map Cache: false
Extent:
XMin: 1.1757101691456296E7
YMin: 6905457.285282459
XMax: 1.1899030541456295E7
YMax: 7070417.585282459
Spatial Reference: 103176
(6593)
LatestVCSWkid(0)
Initial Extent:
XMin: 1.1757101691456296E7
YMin: 6905457.285282459
XMax: 1.1899030541456295E7
YMax: 7070417.585282459
Spatial Reference: 103176
(6593)
LatestVCSWkid(0)
Full Extent:
XMin: 1.1757101691456296E7
YMin: 6905457.285282459
XMax: 1.1899030541456295E7
YMax: 7070417.585282459
Spatial Reference: 103176
(6593)
LatestVCSWkid(0)
Pixel Size X: 98.42499999999974
Pixel Size Y: 98.42499999999988
Band Count: 1
Pixel Type: F32
RasterFunction Infos: {"rasterFunctionInfos": [{
"name": "None",
"description": "",
"help": ""
}]}
Mensuration Capabilities: Basic
Has Histograms: true
Has Colormap: false
Has Multi Dimensions : false
Rendering Rule:
Min Scale: 0
Max Scale: 0
Copyright Text:
Service Data Type: esriImageServiceDataTypeGeneric
Min Values: 0.12992995977402
Max Values: 0.60711491107941
Mean Values: 0.26652197456678
Standard Deviation Values: 0.029531998334155
Object ID Field:
Fields:
None
Default Mosaic Method: Center
Allowed Mosaic Methods:
SortField:
SortValue: null
Mosaic Operator: First
Default Compression Quality: 75
Default Resampling Method: Bilinear
Max Record Count: null
Max Image Height: 4100
Max Image Width: 15000
Max Download Image Count: null
Max Mosaic Image Count: null
Allow Raster Function: true
Allow Copy: true
Allow Analysis: true
Allow Compute TiePoints: false
Supports Statistics: false
Supports Advanced Queries: false
Use StandardizedQueries: true
Raster Type Infos:
Name: Raster Dataset
Description: Supports all ArcGIS Raster Datasets
Help:
Has Raster Attribute Table: false
Edit Fields Info: null
Ownership Based AccessControl For Rasters: null
Child Resources:
Info
Histograms
Statistics
Key Properties
Legend
Raster Function Infos
Supported Operations:
Export Image
Identify
Measure
Compute Histograms
Compute Statistics Histograms
Get Samples
Compute Class Statistics
Query Boundary
Compute Pixel Location
Compute Angles
Validate
Project