View In:
ArcGIS JavaScript
ArcGIS Online Map Viewer
ArcGIS Earth
Service Description: Methodology and Additional Source Info: This data was measured by the National Aeronautics and Space Administration (NASA)'s Landsat 8 satellite's earth observations, measured from 2013-2020 during the summer months (June, July, and August). The data was compiled and mapped for Fairfax County through a partnership between the Fairfax County Office of Environmental and Energy Coordination (OEEC) and the NASA DEVELOP program as part of the "Resilient Fairfax" Climate Adaptation and Resilience Plan process.Description: This map layer shows the areas within Fairfax County that were recorded as hotter than 100 degrees Fahrenheit on average during the summer months (June, July, August) for the years 2013- 2020. The areas with temperatures recorded as above 100F are shown in red, with darker reds indicating higher temperatures. This layer differs from the "Daytime Average Summer Temperature" layer because this layer includes only those areas that were hotter than 100 degrees F. These areas are known as "urban heat islands." The "urban heat island effect" happens because surfaces like parking lots, roads, dense buildings, and other infrastructure absorb and retain heat. Because of the "urban heat island effect," real temperatures within these hot spots on any given day are often much hotter than other areas within the county.
Name: ResilientFairfax/AreasAbove100F
Description: Methodology and Additional Source Info: This data was measured by the National Aeronautics and Space Administration (NASA)'s Landsat 8 satellite's earth observations, measured from 2013-2020 during the summer months (June, July, and August). The data was compiled and mapped for Fairfax County through a partnership between the Fairfax County Office of Environmental and Energy Coordination (OEEC) and the NASA DEVELOP program as part of the "Resilient Fairfax" Climate Adaptation and Resilience Plan process.Description: This map layer shows the areas within Fairfax County that were recorded as hotter than 100 degrees Fahrenheit on average during the summer months (June, July, August) for the years 2013- 2020. The areas with temperatures recorded as above 100F are shown in red, with darker reds indicating higher temperatures. This layer differs from the "Daytime Average Summer Temperature" layer because this layer includes only those areas that were hotter than 100 degrees F. These areas are known as "urban heat islands." The "urban heat island effect" happens because surfaces like parking lots, roads, dense buildings, and other infrastructure absorb and retain heat. Because of the "urban heat island effect," real temperatures within these hot spots on any given day are often much hotter than other areas within the county.
Single Fused Map Cache: false
Extent:
XMin: 1.1753628732155152E7
YMin: 6901651.246557512
XMax: 1.1904415832155153E7
YMax: 7074387.121557513
Spatial Reference: 103176
(6593)
LatestVCSWkid(0)
Initial Extent:
XMin: 1.1753628732155152E7
YMin: 6901651.246557512
XMax: 1.1904415832155153E7
YMax: 7074387.121557513
Spatial Reference: 103176
(6593)
LatestVCSWkid(0)
Full Extent:
XMin: 1.1753628732155152E7
YMin: 6901651.246557512
XMax: 1.1904415832155153E7
YMax: 7074387.121557513
Spatial Reference: 103176
(6593)
LatestVCSWkid(0)
Pixel Size X: 98.42500000000098
Pixel Size Y: 98.42500000000054
Band Count: 1
Pixel Type: F32
RasterFunction Infos: {"rasterFunctionInfos": [{
"name": "None",
"description": "",
"help": ""
}]}
Mensuration Capabilities: Basic
Inspection Capabilities:
Has Histograms: true
Has Colormap: false
Has Multi Dimensions : false
Rendering Rule:
Min Scale: 0
Max Scale: 0
Resampling: false
Copyright Text: NASA DEVELOP LaRC Summer 2021 Urban Team; Fairfax County OEEC
Service Data Type: esriImageServiceDataTypeGeneric
Min Values: 100
Max Values: 125.73908996582
Mean Values: 103.68852014185
Standard Deviation Values: 3.0330486159077
Object ID Field:
Fields:
None
Default Mosaic Method: Center
Allowed Mosaic Methods:
SortField:
SortValue: null
Mosaic Operator: First
Default Compression Quality: 75
Default Resampling Method: Bilinear
Max Record Count: null
Max Image Height: 4100
Max Image Width: 15000
Max Download Image Count: null
Max Mosaic Image Count: null
Allow Raster Function: true
Allow Copy: true
Allow Analysis: true
Allow Compute TiePoints: false
Supports Statistics: false
Supports Advanced Queries: false
Use StandardizedQueries: true
Raster Type Infos:
Name: Raster Dataset
Description: Supports all ArcGIS Raster Datasets
Help:
Has Raster Attribute Table: false
Edit Fields Info: null
Ownership Based AccessControl For Rasters: null
Child Resources:
Info
Histograms
Statistics
Key Properties
Legend
Raster Function Infos
Supported Operations:
Export Image
Identify
Measure
Compute Histograms
Compute Statistics Histograms
Get Samples
Compute Class Statistics
Query Boundary
Compute Pixel Location
Compute Angles
Validate
Project