View In:
ArcGIS JavaScript
ArcGIS Online Map Viewer
ArcGIS Earth
Service Description: Methodology and Additional Source Info: The data was compiled and mapped for Fairfax County through a partnership between the Fairfax County Office of Environmental and Energy Coordination (OEEC) and the NASA DEVELOP program as part of the "Resilient Fairfax" Climate Adaptation and Resilience Plan process. The average cooling capacity was modeled using the INVEST model, which considers land use (Fairfax County GIS data and NLCD data), albedo (NASA's Landsat8 OLI), evapotranspiration (ISS ECOStress), tree canopy data (Fairfax County Urban Forestry), and LiDAR DSM. Description: This map layer shows the "cooling capacity" of Farifax County's land surfaces, or how well different land uses are able to mitigate heat. Low or poor heat mitigation means that it is harder to cool the area. For example, asphalt roads, dark-colored roofs, and dense buildings are not able to mitigate heat very well, so those surfaces remain hot for longer. In contrast, high or good heat mitigation means that it is easier to cool the area. For example, parks, light-colored roofs, and natural open spaces are able to mitgate heat very well, so those areas become cooler more quickly. This map layer, created by NASA Develop, uses the INVEST model to analyse this heat mitigation index or cooling capacity. Darker colors indicate higher (better) cooling capacity. This layer helps to explain certain factors in urban heat island formation in the county, and can help with identification of strategies to mitigate heat.
Name: ResilientFairfax/AverageCoolingCapacityIndex
Description: Methodology and Additional Source Info: The data was compiled and mapped for Fairfax County through a partnership between the Fairfax County Office of Environmental and Energy Coordination (OEEC) and the NASA DEVELOP program as part of the "Resilient Fairfax" Climate Adaptation and Resilience Plan process. The average cooling capacity was modeled using the INVEST model, which considers land use (Fairfax County GIS data and NLCD data), albedo (NASA's Landsat8 OLI), evapotranspiration (ISS ECOStress), tree canopy data (Fairfax County Urban Forestry), and LiDAR DSM. Description: This map layer shows the "cooling capacity" of Farifax County's land surfaces, or how well different land uses are able to mitigate heat. Low or poor heat mitigation means that it is harder to cool the area. For example, asphalt roads, dark-colored roofs, and dense buildings are not able to mitigate heat very well, so those surfaces remain hot for longer. In contrast, high or good heat mitigation means that it is easier to cool the area. For example, parks, light-colored roofs, and natural open spaces are able to mitgate heat very well, so those areas become cooler more quickly. This map layer, created by NASA Develop, uses the INVEST model to analyse this heat mitigation index or cooling capacity. Darker colors indicate higher (better) cooling capacity. This layer helps to explain certain factors in urban heat island formation in the county, and can help with identification of strategies to mitigate heat.
Single Fused Map Cache: false
Extent:
XMin: 1.1663080020064166E7
YMin: 6818506.95525197
XMax: 1.2005008470064165E7
YMax: 7157876.355251971
Spatial Reference: 103176
(6593)
LatestVCSWkid(0)
Initial Extent:
XMin: 1.1663080020064166E7
YMin: 6818506.95525197
XMax: 1.2005008470064165E7
YMax: 7157876.355251971
Spatial Reference: 103176
(6593)
LatestVCSWkid(0)
Full Extent:
XMin: 1.1663080020064166E7
YMin: 6818506.95525197
XMax: 1.2005008470064165E7
YMax: 7157876.355251971
Spatial Reference: 103176
(6593)
LatestVCSWkid(0)
Pixel Size X: 98.42499999999978
Pixel Size Y: 98.42500000000011
Band Count: 1
Pixel Type: F32
RasterFunction Infos: {"rasterFunctionInfos": [{
"name": "None",
"description": "",
"help": ""
}]}
Mensuration Capabilities: Basic
Inspection Capabilities:
Has Histograms: true
Has Colormap: false
Has Multi Dimensions : false
Rendering Rule:
Min Scale: 0
Max Scale: 0
Resampling: false
Copyright Text: NASA DEVELOP LaRC Summer 2021 Urban Team; Fairfax County OEEC
Service Data Type: esriImageServiceDataTypeGeneric
Min Values: 0
Max Values: 0.97296196222305
Mean Values: 0.54695622874662
Standard Deviation Values: 0.24250333274065
Object ID Field:
Fields:
None
Default Mosaic Method: Center
Allowed Mosaic Methods:
SortField:
SortValue: null
Mosaic Operator: First
Default Compression Quality: 75
Default Resampling Method: Bilinear
Max Record Count: null
Max Image Height: 4100
Max Image Width: 15000
Max Download Image Count: null
Max Mosaic Image Count: null
Allow Raster Function: true
Allow Copy: true
Allow Analysis: true
Allow Compute TiePoints: false
Supports Statistics: false
Supports Advanced Queries: false
Use StandardizedQueries: true
Raster Type Infos:
Name: Raster Dataset
Description: Supports all ArcGIS Raster Datasets
Help:
Has Raster Attribute Table: false
Edit Fields Info: null
Ownership Based AccessControl For Rasters: null
Child Resources:
Info
Histograms
Statistics
Key Properties
Legend
Raster Function Infos
Supported Operations:
Export Image
Identify
Measure
Compute Histograms
Compute Statistics Histograms
Get Samples
Compute Class Statistics
Query Boundary
Compute Pixel Location
Compute Angles
Validate
Project