View In:
ArcGIS JavaScript
ArcGIS Online Map Viewer
ArcGIS Earth
Service Description: Methodology and Additional Source Info: This data was measured by the National Aeronautics and Space Administration (NASA)'s Landsat 8 satellite's earth observations, measured from 2013-2020 during the summer months (June, July, and August). The data was compiled and mapped for Fairfax County through a partnership between the Fairfax County Office of Environmental and Energy Coordination (OEEC) and the NASA DEVELOP program as part of the "Resilient Fairfax" Climate Adaptation and Resilience Plan process.Description: All areas of Fairfax County are exposed to extreme heat, and as temperatures continue to rise, this heat exposure is increasing. However, certain areas of the county experience significantly hotter on-the-ground temperatures than other areas. This map layer shows the average surface (on the ground) temperatures for Fairfax County, VA, measured from 2013-2020 during the summer months (June, July and August). The areas shown in light yellow-orange are cooler areas, while the areas shown in dark red are the hottest areas in Fairfax County. The highest surface temperature recorded was 126 degrees.The dark red areas on this map layer are known as "urban heat islands." The "urban heat island effect" happens because surfaces like parking lots, roads, dense buildings, and other infrastructure absorb and retain heat. In contrast, areas with ample green space, trees, and light-colored surfaces such as white roofs are much cooler. Because of the "urban heat island effect," real temperatures within these hot spots on any given day are often much hotter than the general weather forecast for that day. For example, if the general temperature in Fairfax County for a particular day is 80 degrees F, the real temperature in the "urban heat islands" may be 100 degrees F. As overall temperatures rise, temperatures will continue to be even higher within the urban heat islands. The purpose of this map is to enable Fairfax County residents, staff, and stakeholders, to see the locations of urban heat islands in Fairfax County. When we know the locations of these urban heat islands, we are able to make better plans to address extreme heat.
Name: ResilientFairfax/DaytimeSummerAvgSurfaceTemp
Description: Methodology and Additional Source Info: This data was measured by the National Aeronautics and Space Administration (NASA)'s Landsat 8 satellite's earth observations, measured from 2013-2020 during the summer months (June, July, and August). The data was compiled and mapped for Fairfax County through a partnership between the Fairfax County Office of Environmental and Energy Coordination (OEEC) and the NASA DEVELOP program as part of the "Resilient Fairfax" Climate Adaptation and Resilience Plan process.Description: All areas of Fairfax County are exposed to extreme heat, and as temperatures continue to rise, this heat exposure is increasing. However, certain areas of the county experience significantly hotter on-the-ground temperatures than other areas. This map layer shows the average surface (on the ground) temperatures for Fairfax County, VA, measured from 2013-2020 during the summer months (June, July and August). The areas shown in light yellow-orange are cooler areas, while the areas shown in dark red are the hottest areas in Fairfax County. The highest surface temperature recorded was 126 degrees.The dark red areas on this map layer are known as "urban heat islands." The "urban heat island effect" happens because surfaces like parking lots, roads, dense buildings, and other infrastructure absorb and retain heat. In contrast, areas with ample green space, trees, and light-colored surfaces such as white roofs are much cooler. Because of the "urban heat island effect," real temperatures within these hot spots on any given day are often much hotter than the general weather forecast for that day. For example, if the general temperature in Fairfax County for a particular day is 80 degrees F, the real temperature in the "urban heat islands" may be 100 degrees F. As overall temperatures rise, temperatures will continue to be even higher within the urban heat islands. The purpose of this map is to enable Fairfax County residents, staff, and stakeholders, to see the locations of urban heat islands in Fairfax County. When we know the locations of these urban heat islands, we are able to make better plans to address extreme heat.
Single Fused Map Cache: false
Extent:
XMin: 1.1663080020064166E7
YMin: 6818506.95525197
XMax: 1.2005008470064165E7
YMax: 7157876.355251971
Spatial Reference: 103176
(6593)
LatestVCSWkid(0)
Initial Extent:
XMin: 1.1663080020064166E7
YMin: 6818506.95525197
XMax: 1.2005008470064165E7
YMax: 7157876.355251971
Spatial Reference: 103176
(6593)
LatestVCSWkid(0)
Full Extent:
XMin: 1.1663080020064166E7
YMin: 6818506.95525197
XMax: 1.2005008470064165E7
YMax: 7157876.355251971
Spatial Reference: 103176
(6593)
LatestVCSWkid(0)
Pixel Size X: 98.42499999999978
Pixel Size Y: 98.42500000000011
Band Count: 1
Pixel Type: F32
RasterFunction Infos: {"rasterFunctionInfos": [{
"name": "None",
"description": "",
"help": ""
}]}
Mensuration Capabilities: Basic
Inspection Capabilities:
Has Histograms: true
Has Colormap: false
Has Multi Dimensions : false
Rendering Rule:
Min Scale: 0
Max Scale: 0
Resampling: false
Copyright Text: NASA DEVELOP LaRC Summer 2021 Urban Team; Fairfax County OEEC
Service Data Type: esriImageServiceDataTypeGeneric
Min Values: 52.369998931885
Max Values: 126.9585723877
Mean Values: 89.150481318749
Standard Deviation Values: 7.375291467671
Object ID Field:
Fields:
None
Default Mosaic Method: Center
Allowed Mosaic Methods:
SortField:
SortValue: null
Mosaic Operator: First
Default Compression Quality: 75
Default Resampling Method: Bilinear
Max Record Count: null
Max Image Height: 4100
Max Image Width: 15000
Max Download Image Count: null
Max Mosaic Image Count: null
Allow Raster Function: true
Allow Copy: true
Allow Analysis: true
Allow Compute TiePoints: false
Supports Statistics: false
Supports Advanced Queries: false
Use StandardizedQueries: true
Raster Type Infos:
Name: Raster Dataset
Description: Supports all ArcGIS Raster Datasets
Help:
Has Raster Attribute Table: false
Edit Fields Info: null
Ownership Based AccessControl For Rasters: null
Child Resources:
Info
Histograms
Statistics
Key Properties
Legend
Raster Function Infos
Supported Operations:
Export Image
Identify
Measure
Compute Histograms
Compute Statistics Histograms
Get Samples
Compute Class Statistics
Query Boundary
Compute Pixel Location
Compute Angles
Validate
Project