View In:
ArcGIS JavaScript
ArcGIS Online Map Viewer
ArcGIS Earth
Service Description: Three Feet of Sea Level Rise with Depth of Water Shown
Name: ResilientFairfax/SeaLevelRise3ft
Description: Three Feet of Sea Level Rise with Depth of Water Shown
Single Fused Map Cache: false
Extent:
XMin: 1.175221557282936E7
YMin: 6526002.732561618
XMax: 1.2169892559647284E7
YMax: 7046434.046865132
Spatial Reference: 103176
(6593)
LatestVCSWkid(0)
Initial Extent:
XMin: 1.175221557282936E7
YMin: 6526002.732561618
XMax: 1.2169892559647284E7
YMax: 7046434.046865132
Spatial Reference: 103176
(6593)
LatestVCSWkid(0)
Full Extent:
XMin: 1.175221557282936E7
YMin: 6526002.732561618
XMax: 1.2169892559647284E7
YMax: 7046434.046865132
Spatial Reference: 103176
(6593)
LatestVCSWkid(0)
Pixel Size X: 8.797459544999143
Pixel Size Y: 8.797459544999132
Band Count: 1
Pixel Type: F32
RasterFunction Infos: {"rasterFunctionInfos": [{
"name": "None",
"description": "",
"help": ""
}]}
Mensuration Capabilities: Basic
Inspection Capabilities:
Has Histograms: true
Has Colormap: false
Has Multi Dimensions : false
Rendering Rule:
Min Scale: 0
Max Scale: 0
Resampling: false
Copyright Text: NOAA and Fairfax County OEEC
Service Data Type: esriImageServiceDataTypeGeneric
Min Values: 2.2711753899785E-7
Max Values: 2.4444000720978
Mean Values: 1.8905215365795
Standard Deviation Values: 0.50868732547947
Object ID Field:
Fields:
None
Default Mosaic Method: Center
Allowed Mosaic Methods:
SortField:
SortValue: null
Mosaic Operator: First
Default Compression Quality: 75
Default Resampling Method: Bilinear
Max Record Count: null
Max Image Height: 4100
Max Image Width: 15000
Max Download Image Count: null
Max Mosaic Image Count: null
Allow Raster Function: true
Allow Copy: true
Allow Analysis: true
Allow Compute TiePoints: false
Supports Statistics: false
Supports Advanced Queries: false
Use StandardizedQueries: true
Raster Type Infos:
Name: Raster Dataset
Description: Supports all ArcGIS Raster Datasets
Help:
Has Raster Attribute Table: false
Edit Fields Info: null
Ownership Based AccessControl For Rasters: null
Child Resources:
Info
Histograms
Statistics
Key Properties
Legend
Raster Function Infos
Supported Operations:
Export Image
Identify
Measure
Compute Histograms
Compute Statistics Histograms
Get Samples
Compute Class Statistics
Query Boundary
Compute Pixel Location
Compute Angles
Validate
Project